BEGIN:VCALENDAR
VERSION:2.0
PRODID:-//CEKCB - ECPv6.15.18//NONSGML v1.0//EN
CALSCALE:GREGORIAN
METHOD:PUBLISH
X-ORIGINAL-URL:https://cekcb.fr
X-WR-CALDESC:Évènements pour CEKCB
REFRESH-INTERVAL;VALUE=DURATION:PT1H
X-Robots-Tag:noindex
X-PUBLISHED-TTL:PT1H
BEGIN:VTIMEZONE
TZID:Europe/Paris
BEGIN:DAYLIGHT
TZOFFSETFROM:+0100
TZOFFSETTO:+0200
TZNAME:CEST
DTSTART:20240331T010000
END:DAYLIGHT
BEGIN:STANDARD
TZOFFSETFROM:+0200
TZOFFSETTO:+0100
TZNAME:CET
DTSTART:20241027T010000
END:STANDARD
BEGIN:DAYLIGHT
TZOFFSETFROM:+0100
TZOFFSETTO:+0200
TZNAME:CEST
DTSTART:20250330T010000
END:DAYLIGHT
BEGIN:STANDARD
TZOFFSETFROM:+0200
TZOFFSETTO:+0100
TZNAME:CET
DTSTART:20251026T010000
END:STANDARD
BEGIN:DAYLIGHT
TZOFFSETFROM:+0100
TZOFFSETTO:+0200
TZNAME:CEST
DTSTART:20260329T010000
END:DAYLIGHT
BEGIN:STANDARD
TZOFFSETFROM:+0200
TZOFFSETTO:+0100
TZNAME:CET
DTSTART:20261025T010000
END:STANDARD
END:VTIMEZONE
BEGIN:VEVENT
DTSTART;VALUE=DATE:20250124
DTEND;VALUE=DATE:20250126
DTSTAMP:20260423T000051
CREATED:20230428T092045Z
LAST-MODIFIED:20240719T131157Z
UID:12049-1737676800-1737849599@cekcb.fr
SUMMARY:Cancer du sein et approche posturo respiratoire en kinésithérapie – De Gasquet
DESCRIPTION:La prise en charge du cancer du sein dans une approche globale permet d’assurer une mobilité protégée et une prévention des effets secondaires. \n 
URL:https://cekcb.fr/event/yoga-pre-post-natal-de-gasquet/
LOCATION:pontivy
ORGANIZER;CN="CEKCB":MAILTO:contact@cekcb.fr
END:VEVENT
END:VCALENDAR