BEGIN:VCALENDAR
VERSION:2.0
PRODID:-//CEKCB - ECPv6.15.18//NONSGML v1.0//EN
CALSCALE:GREGORIAN
METHOD:PUBLISH
X-ORIGINAL-URL:https://cekcb.fr
X-WR-CALDESC:Évènements pour CEKCB
REFRESH-INTERVAL;VALUE=DURATION:PT1H
X-Robots-Tag:noindex
X-PUBLISHED-TTL:PT1H
BEGIN:VTIMEZONE
TZID:Europe/Paris
BEGIN:DAYLIGHT
TZOFFSETFROM:+0100
TZOFFSETTO:+0200
TZNAME:CEST
DTSTART:20240331T010000
END:DAYLIGHT
BEGIN:STANDARD
TZOFFSETFROM:+0200
TZOFFSETTO:+0100
TZNAME:CET
DTSTART:20241027T010000
END:STANDARD
BEGIN:DAYLIGHT
TZOFFSETFROM:+0100
TZOFFSETTO:+0200
TZNAME:CEST
DTSTART:20250330T010000
END:DAYLIGHT
BEGIN:STANDARD
TZOFFSETFROM:+0200
TZOFFSETTO:+0100
TZNAME:CET
DTSTART:20251026T010000
END:STANDARD
BEGIN:DAYLIGHT
TZOFFSETFROM:+0100
TZOFFSETTO:+0200
TZNAME:CEST
DTSTART:20260329T010000
END:DAYLIGHT
BEGIN:STANDARD
TZOFFSETFROM:+0200
TZOFFSETTO:+0100
TZNAME:CET
DTSTART:20261025T010000
END:STANDARD
END:VTIMEZONE
BEGIN:VEVENT
DTSTART;VALUE=DATE:20250306
DTEND;VALUE=DATE:20250309
DTSTAMP:20260422T205355
CREATED:20240726T083648Z
LAST-MODIFIED:20240726T083745Z
UID:15351-1741219200-1741478399@cekcb.fr
SUMMARY:Nutrition santé pour kinés
DESCRIPTION:Formation nutrition santé pour kinés afin de comprendre et traiter les causes alimentaires de l’inflammation et des rhumatismes
URL:https://cekcb.fr/event/nutrition-sante-pour-kines/
LOCATION:pontivy
ORGANIZER;CN="CEKCB":MAILTO:contact@cekcb.fr
END:VEVENT
BEGIN:VEVENT
DTSTART;VALUE=DATE:20250307
DTEND;VALUE=DATE:20250309
DTSTAMP:20260422T205355
CREATED:20230803T084704Z
LAST-MODIFIED:20240726T083443Z
UID:12829-1741305600-1741478399@cekcb.fr
SUMMARY:Le NUAD THAO : La réflexologie plantaire thaïe revisitée
DESCRIPTION:"Découvrez le NUAD THAO : une formation énergétique révolutionnaire qui revisite la réflexologie plantaire thaïe pour une harmonie totale du corps et de l'esprit"
URL:https://cekcb.fr/event/le-nuad-thao-la-reflexologie-plantaire-thaie-revisitee/
LOCATION:pontivy
ORGANIZER;CN="CEKCB":MAILTO:contact@cekcb.fr
END:VEVENT
BEGIN:VEVENT
DTSTART;VALUE=DATE:20250314
DTEND;VALUE=DATE:20250317
DTSTAMP:20260422T205355
CREATED:20240726T084930Z
LAST-MODIFIED:20240726T084930Z
UID:15356-1741910400-1742169599@cekcb.fr
SUMMARY:K taping - Rennes
DESCRIPTION:Traitement des chaines musculaires et leurs fascias par bandes adhésives \nLe K-Taping peut optimiser pratiquement toutes les techniques de kinésithérapie. De plus\, il offre des méthodes de thérapie nouvelles. \nLe K-Taping est un complément thérapeutique applicable dans beaucoup de domaines pour prolonger et soutenir les traitements en cabinet. Quatre techniques de base sont enseignées. Celles-ci permettent\, une fois combinées\, des actions antalgiques\, un soutien articulaire\, une aide au drainage lymphatique et une facilitation musculaire. Les propriétés élastiques du tape permettent une totale mobilité au patient\, qui peut garder le tape plusieurs jours durant.\nLes douleurs de dos\, contractions musculaires\, problèmes articulaires\, migraine et acouphènes peuvent être soignés par le K-Taping tout autant que la dysménorrhée ou des problèmes de miction.\nDans la thérapie du drainage lymphatique\, le K-Taping offre des méthodes de suivi de traitement comme par exemple après une ablation mammaire. En ce qui concerne le sport de haut niveau le K-Taping s´est affirmé non seulement dans le secteur thérapeutique mais aussi dans les domaines de la prévention\, de l’entrainement et de la préparation. Le plus grand avantage par rapport aux thérapies conventionnelles est que le K-Taping permet au patient de garder sa totale mobilité.\nPour une application correcte de la thérapie de K-Taping\, il est indispensable de suivre la formation et d´utiliser un Tape spécialement conçu\, le K-Tape.\nGrâce à la qualité du matériel utilisé (membrane imperméable mais permettant l´évaporation)\, il est possible de porter le Tape avec un grand confort et sans gêne plusieurs journées durant\, parfois même jusqu’à deux semaines.
URL:https://cekcb.fr/event/k-taping-rennes/
LOCATION:Rennes
ATTACH;FMTTYPE=image/jpeg:https://cekcb.fr/wp-content/uploads/2021/02/k-taping_therapie_pro2.jpg
ORGANIZER;CN="CEKCB":MAILTO:contact@cekcb.fr
END:VEVENT
BEGIN:VEVENT
DTSTART;TZID=Europe/Paris:20250320T080000
DTEND;TZID=Europe/Paris:20250321T170000
DTSTAMP:20260422T205355
CREATED:20240618T091314Z
LAST-MODIFIED:20240618T091517Z
UID:15042-1742457600-1742576400@cekcb.fr
SUMMARY:DIAGNOSTICS DES BLESSURES DU MEMBRE INFÉRIEUR : ASPECTS PRATIQUES
DESCRIPTION:Le processus diagnostic des pathologies non traumatiques et traumatiques du membre inférieur chezle coureur à pied\, ainsi que les valeurs métrologiques associées\, est un réel besoin pour le\nkinésithérapeute français. \nPlus d’un français sur 7 déclare pratiquer la course à pied (1) soit 11%.\nChaque année\, environ 50% des coureurs se blessent\, avec une grande majorité de blessures au membre inférieur.\nDévelopper des habiletés et des connaissances dans l’évaluation de conditions musculosquelettiques (non traumatiques et traumatiques) du quadrant inférieur par l’intégration pratique de tests manuels et de raisonnement clinique. \nObjectif opérationnels et évaluables de développement des compétences \nA l’issue de l’action de la formation\, le stagiaire sera capable de :\n– Identifier les tests diagnostiques les plus pertinents\, relatifs aux blessures traumatiques et non traumatiques du membre inférieur les plus communes en course à pied\, et discriminer leurs valeurs métrologiques .\n– Développer un raisonnement clinique synthétique et reconnaître la séquence logique qui sous-tend l’évaluation physique d’un coureur blessé.\n– Différencier\, à l’aide d’une suite logique de tests\, les diagnostics potentiels pour les blessures traumatiques et non traumatiques du membre inférieur (hanche\, genou\, jambe\, pied) en fonction d’une démarche basée sur les preuves scientifiques\, afin d’orienter le plan de traitement.
URL:https://cekcb.fr/event/diagnostics-des-blessures-du-membre-inferieur-aspects-pratiques/
END:VEVENT
END:VCALENDAR