BEGIN:VCALENDAR
VERSION:2.0
PRODID:-//CEKCB - ECPv6.15.18//NONSGML v1.0//EN
CALSCALE:GREGORIAN
METHOD:PUBLISH
X-ORIGINAL-URL:https://cekcb.fr
X-WR-CALDESC:Évènements pour CEKCB
REFRESH-INTERVAL;VALUE=DURATION:PT1H
X-Robots-Tag:noindex
X-PUBLISHED-TTL:PT1H
BEGIN:VTIMEZONE
TZID:Europe/Paris
BEGIN:DAYLIGHT
TZOFFSETFROM:+0100
TZOFFSETTO:+0200
TZNAME:CEST
DTSTART:20240331T010000
END:DAYLIGHT
BEGIN:STANDARD
TZOFFSETFROM:+0200
TZOFFSETTO:+0100
TZNAME:CET
DTSTART:20241027T010000
END:STANDARD
BEGIN:DAYLIGHT
TZOFFSETFROM:+0100
TZOFFSETTO:+0200
TZNAME:CEST
DTSTART:20250330T010000
END:DAYLIGHT
BEGIN:STANDARD
TZOFFSETFROM:+0200
TZOFFSETTO:+0100
TZNAME:CET
DTSTART:20251026T010000
END:STANDARD
BEGIN:DAYLIGHT
TZOFFSETFROM:+0100
TZOFFSETTO:+0200
TZNAME:CEST
DTSTART:20260329T010000
END:DAYLIGHT
BEGIN:STANDARD
TZOFFSETFROM:+0200
TZOFFSETTO:+0100
TZNAME:CET
DTSTART:20261025T010000
END:STANDARD
END:VTIMEZONE
BEGIN:VEVENT
DTSTART;VALUE=DATE:20250425
DTEND;VALUE=DATE:20250427
DTSTAMP:20260422T191031
CREATED:20230106T151107Z
LAST-MODIFIED:20250327T142916Z
UID:11089-1745539200-1745711999@cekcb.fr
SUMMARY:Massage Chinois appliqué à la kinésithérapie
DESCRIPTION:La Médecine Traditionnelle Chinoise (MTC) nécessite un enseignement long\, très long\, de souvent au moins cinq années. Si vous entreprenez un tel cursus\, probablement vous envisagez de changer de profession. \nNotre formation est originale : elle utilise les 8 concepts principaux de la MTC et a la prétention de vous offrir en seulement 4 journées un complément très efficace à vos techniques habituelles de soin. \n  \nEn savoir plus
URL:https://cekcb.fr/event/massage-chinois-applique-a-la-kinesitherapie-2/
LOCATION:pontivy
ORGANIZER;CN="CEKCB":MAILTO:contact@cekcb.fr
END:VEVENT
BEGIN:VEVENT
DTSTART;TZID=Europe/Paris:20250429T080000
DTEND;TZID=Europe/Paris:20250429T170000
DTSTAMP:20260422T191031
CREATED:20250429T124827Z
LAST-MODIFIED:20250429T124827Z
UID:17199-1745913600-1745946000@cekcb.fr
SUMMARY:Formation en Kinésithérapie Viscérale
DESCRIPTION: Attention bientôt à Pontivy \nFormation en Kinésithérapie Viscérale – Développez une expertise essentielle pour votre pratique ! \nVous êtes kinésithérapeute et souhaitez élargir vos compétences vers une approche thérapeutique innovante et efficace ? Rejoignez notre formation en kinésithérapie viscérale animée par Thierry Blain \, \n✅ Comprendre les interactions entre les systèmes viscéral\, musculo-squelettique et neurovégétatif✅ Traiter les troubles fonctionnels digestifs\, respiratoires ou gynécologiques par une approche manuelle spécifique✅ Optimiser les résultats de vos soins\, notamment dans les douleurs chroniques et les troubles posturaux✅ Proposer une prise en charge globale et différenciante à vos patients \n22\,23\,24 mai à Pontivy
URL:https://cekcb.fr/event/formation-en-kinesitherapie-viscerale/
END:VEVENT
END:VCALENDAR