BEGIN:VCALENDAR
VERSION:2.0
PRODID:-//CEKCB - ECPv6.15.18//NONSGML v1.0//EN
CALSCALE:GREGORIAN
METHOD:PUBLISH
X-ORIGINAL-URL:https://cekcb.fr
X-WR-CALDESC:Évènements pour CEKCB
REFRESH-INTERVAL;VALUE=DURATION:PT1H
X-Robots-Tag:noindex
X-PUBLISHED-TTL:PT1H
BEGIN:VTIMEZONE
TZID:Europe/Paris
BEGIN:DAYLIGHT
TZOFFSETFROM:+0100
TZOFFSETTO:+0200
TZNAME:CEST
DTSTART:20240331T010000
END:DAYLIGHT
BEGIN:STANDARD
TZOFFSETFROM:+0200
TZOFFSETTO:+0100
TZNAME:CET
DTSTART:20241027T010000
END:STANDARD
BEGIN:DAYLIGHT
TZOFFSETFROM:+0100
TZOFFSETTO:+0200
TZNAME:CEST
DTSTART:20250330T010000
END:DAYLIGHT
BEGIN:STANDARD
TZOFFSETFROM:+0200
TZOFFSETTO:+0100
TZNAME:CET
DTSTART:20251026T010000
END:STANDARD
BEGIN:DAYLIGHT
TZOFFSETFROM:+0100
TZOFFSETTO:+0200
TZNAME:CEST
DTSTART:20260329T010000
END:DAYLIGHT
BEGIN:STANDARD
TZOFFSETFROM:+0200
TZOFFSETTO:+0100
TZNAME:CET
DTSTART:20261025T010000
END:STANDARD
END:VTIMEZONE
BEGIN:VEVENT
DTSTART;VALUE=DATE:20250606
DTEND;VALUE=DATE:20250609
DTSTAMP:20260422T152559
CREATED:20240924T101736Z
LAST-MODIFIED:20250327T143502Z
UID:15687-1749168000-1749427199@cekcb.fr
SUMMARY:DRY NEEDLING 1 - PERPIGNAN
DESCRIPTION:
URL:https://cekcb.fr/event/dry-needling-a-perpignan/
END:VEVENT
BEGIN:VEVENT
DTSTART;VALUE=DATE:20250613
DTEND;VALUE=DATE:20250615
DTSTAMP:20260422T152559
CREATED:20230106T151250Z
LAST-MODIFIED:20250327T143010Z
UID:11092-1749772800-1749945599@cekcb.fr
SUMMARY:Massage chinois 2
DESCRIPTION:La Médecine Traditionnelle Chinoise (MTC) nécessite un enseignement long\, très long\, de souvent au moins cinq années. Si vous entreprenez un tel cursus\, probablement vous envisagez de changer de profession. \nNotre formation est originale : elle utilise les 8 concepts principaux de la MTC et a la prétention de vous offrir en seulement 4 journées un complément très efficace à vos techniques habituelles de soin. \n  \nEn savoir plus
URL:https://cekcb.fr/event/11092/
LOCATION:pontivy
ORGANIZER;CN="CEKCB":MAILTO:contact@cekcb.fr
END:VEVENT
BEGIN:VEVENT
DTSTART;TZID=Europe/Paris:20250619T080000
DTEND;TZID=Europe/Paris:20250620T170000
DTSTAMP:20260422T152559
CREATED:20250306T104547Z
LAST-MODIFIED:20250306T104709Z
UID:16765-1750320000-1750438800@cekcb.fr
SUMMARY:De « l’Equilibre » à la Chute : de l’Autonomie à la Dépendance
DESCRIPTION:
URL:https://cekcb.fr/event/de-lequilibre-a-la-chute-de-lautonomie-a-la-dependance/
LOCATION:pontivy
END:VEVENT
BEGIN:VEVENT
DTSTART;VALUE=DATE:20250620
DTEND;VALUE=DATE:20250622
DTSTAMP:20260422T152559
CREATED:20240530T085659Z
LAST-MODIFIED:20250327T143037Z
UID:14934-1750377600-1750550399@cekcb.fr
SUMMARY:Auriculothérapie
DESCRIPTION:Vous connaissez l’Auriculothérapie\, cette technique médicale réflexe qui utilise des points du pavillon de l’oreille pour soigner toutes sortes d’affections.\nC’est un médecin lyonnais\, le docteur Nogier qui en a codifié les bases\, il y a un peu plus de soixante ans. Tout le corps se projette sur le pavillon de l’oreille selon une figure maintenant bien connue : un foetus\, la tête en bas.\nEn gros\, le lobe correspond à la tête et au visage\, le corps de l’anthélix à la colonne vertébrale\, sa branche supérieure au membre inférieur\, la gouttière de l’hélix au membre supérieur\, la conque aux différents organes.
URL:https://cekcb.fr/event/auriculotherapie/
LOCATION:pontivy
ATTACH;FMTTYPE=image/bmp:https://cekcb.fr/wp-content/uploads/2023/12/AURICULO-CEKCB-point_genou-dec-23.bmp
ORGANIZER;CN="CEKCB":MAILTO:contact@cekcb.fr
END:VEVENT
END:VCALENDAR