BEGIN:VCALENDAR
VERSION:2.0
PRODID:-//CEKCB - ECPv6.15.18//NONSGML v1.0//EN
CALSCALE:GREGORIAN
METHOD:PUBLISH
X-ORIGINAL-URL:https://cekcb.fr
X-WR-CALDESC:Évènements pour CEKCB
REFRESH-INTERVAL;VALUE=DURATION:PT1H
X-Robots-Tag:noindex
X-PUBLISHED-TTL:PT1H
BEGIN:VTIMEZONE
TZID:Europe/Paris
BEGIN:DAYLIGHT
TZOFFSETFROM:+0100
TZOFFSETTO:+0200
TZNAME:CEST
DTSTART:20240331T010000
END:DAYLIGHT
BEGIN:STANDARD
TZOFFSETFROM:+0200
TZOFFSETTO:+0100
TZNAME:CET
DTSTART:20241027T010000
END:STANDARD
BEGIN:DAYLIGHT
TZOFFSETFROM:+0100
TZOFFSETTO:+0200
TZNAME:CEST
DTSTART:20250330T010000
END:DAYLIGHT
BEGIN:STANDARD
TZOFFSETFROM:+0200
TZOFFSETTO:+0100
TZNAME:CET
DTSTART:20251026T010000
END:STANDARD
BEGIN:DAYLIGHT
TZOFFSETFROM:+0100
TZOFFSETTO:+0200
TZNAME:CEST
DTSTART:20260329T010000
END:DAYLIGHT
BEGIN:STANDARD
TZOFFSETFROM:+0200
TZOFFSETTO:+0100
TZNAME:CET
DTSTART:20261025T010000
END:STANDARD
END:VTIMEZONE
BEGIN:VEVENT
DTSTART;VALUE=DATE:20250912
DTEND;VALUE=DATE:20250914
DTSTAMP:20260422T101230
CREATED:20230804T092659Z
LAST-MODIFIED:20250327T143801Z
UID:12861-1757635200-1757807999@cekcb.fr
SUMMARY:Malpositions et malformations du pied du nouveau né et du jeune enfant
DESCRIPTION:Malpositions et malformations du pied du nouveau né et du jeune enfant : mobilisations\, bandages et appareillages \nLes déformations du pied du nouveau-né couvrent un vaste champ clinique\, allant de la simple malposition à la malformation la plus complexe.
URL:https://cekcb.fr/event/malpositions-et-malformations-du-pied-du-nouveau-ne-et-du-jeune-enfant/
LOCATION:pontivy
ATTACH;FMTTYPE=image/jpeg:https://cekcb.fr/wp-content/uploads/2023/07/photo-formation1-web.jpg
ORGANIZER;CN="CEKCB":MAILTO:contact@cekcb.fr
END:VEVENT
BEGIN:VEVENT
DTSTART;TZID=Europe/Paris:20250912T080000
DTEND;TZID=Europe/Paris:20250914T170000
DTSTAMP:20260422T101230
CREATED:20240924T101442Z
LAST-MODIFIED:20250327T143559Z
UID:15684-1757664000-1757869200@cekcb.fr
SUMMARY:DRY NEEDLING 2 - PERPIGNAN
DESCRIPTION:
URL:https://cekcb.fr/event/dry-needling-perpignan/
LOCATION:¨perpignan\, hotel\, PERPIGNAN
END:VEVENT
BEGIN:VEVENT
DTSTART;VALUE=DATE:20250917
DTEND;VALUE=DATE:20250921
DTSTAMP:20260422T101230
CREATED:20230802T082511Z
LAST-MODIFIED:20250327T143843Z
UID:12791-1758067200-1758412799@cekcb.fr
SUMMARY:Mc Kenzie – MDT Module C
DESCRIPTION:Cours C – Approfondissement de la Colonne Lombaire et applications des concepts McKenzie au Membre Inférieur \n \nEn première partie\, ce cours de 4 jours (28 heures) porte sur l’optimisation de l’utilisation de l’approche MDT pour la région lombaire couverte en partie A. A l’aide d’études de cas et d’exercices en petits groupes\, les participants apprennent à affiner leur raisonnement clinique\, à enrichir leur diagnostic différentiel\, à modifier les protocoles de traitement et à bien structurer leurs chaines décisionnelles. Les techniques de traitement et leurs progressions sont revues et développées. \nLes problèmes rencontrés par les participants dans l’application des concepts McKenzie sont étudiés et discutés en détail. \nEn deuxième partie\, ce cours présente l’application de la méthode McKenzie aux articulations du membre inférieur (articulation sacro-iliaque\, hanche\, genou\, cheville\, pied) ainsi qu’au management des tendinopathies de cette région.
URL:https://cekcb.fr/event/mc-kenzie-mdt-module-c-2/
LOCATION:pontivy
ORGANIZER;CN="CEKCB":MAILTO:contact@cekcb.fr
END:VEVENT
BEGIN:VEVENT
DTSTART;VALUE=DATE:20250919
DTEND;VALUE=DATE:20250921
DTSTAMP:20260422T101230
CREATED:20230427T094734Z
LAST-MODIFIED:20250327T144108Z
UID:11938-1758240000-1758412799@cekcb.fr
SUMMARY:Yoga au féminin
DESCRIPTION:
URL:https://cekcb.fr/event/yoga-au-feminin/
LOCATION:pontivy
ATTACH;FMTTYPE=image/png:https://cekcb.fr/wp-content/uploads/2021/04/yoga_feminin_livret.png
END:VEVENT
BEGIN:VEVENT
DTSTART;VALUE=DATE:20250921
DTEND;VALUE=DATE:20250922
DTSTAMP:20260422T101230
CREATED:20220809T095744Z
LAST-MODIFIED:20250327T143927Z
UID:9494-1758412800-1758499199@cekcb.fr
SUMMARY:Révision McKenzie
DESCRIPTION:
URL:https://cekcb.fr/event/examen-mckenzie/
LOCATION:pontivy
END:VEVENT
BEGIN:VEVENT
DTSTART;VALUE=DATE:20250925
DTEND;VALUE=DATE:20250927
DTSTAMP:20260422T101230
CREATED:20230804T092246Z
LAST-MODIFIED:20250327T144039Z
UID:12858-1758758400-1758931199@cekcb.fr
SUMMARY:Traitement des cicatrices
DESCRIPTION:Le traitement des cicatrices entre dans le champs de compétences des masseurs-kinésithérapeutes. Bien que souvent mis de coté\, l’approche du traitement cicatriciel peut être essentielle pour une récupération complète au niveau mobilité (tissulaire et articulaire) ainsi que pour le soin global du patient. Qu´elle soit microscopique ou de très grande taille\, ce stage vous permettra de faire un diagnostic précis de la gêne créée\, et vous permettra d´adapter un soin rapide pour éviter les effets secondaires liés aux adhérences\, effets émotionnels et énergétiques.
URL:https://cekcb.fr/event/traitement-des-cicatrices/
LOCATION:pontivy
ATTACH;FMTTYPE=image/jpeg:https://cekcb.fr/wp-content/uploads/2023/08/image_catalogue.jpg
ORGANIZER;CN="CEKCB":MAILTO:contact@cekcb.fr
END:VEVENT
BEGIN:VEVENT
DTSTART;VALUE=DATE:20250926
DTEND;VALUE=DATE:20250928
DTSTAMP:20260422T101230
CREATED:20230427T095025Z
LAST-MODIFIED:20250808T141439Z
UID:11940-1758844800-1759017599@cekcb.fr
SUMMARY:Méthodes Pilates 1
DESCRIPTION:Découverte de la méthode Pilates pour Kinésithérapeutes en deux modules indissociables\nVous avez beaucoup entendu parlé de la méthode Pilates et vous êtes curieux ? \n\nVous souhaitez développer une pratique de cours de gym collectif au sein de votre cabinet afin de diversifier votre activité?\nPolestar Pilates et son équipe \, vous proposent une formation introductive spécialement conçue pour vous\, kinésithérapeutes. Polestar Pilates\, est l’une des écoles leader du marché International . Elle a été crée aux états Unis par le Dr Brent Anderson au début des années 1990.\nSa spécialité est d’enseigner la méthode Pilates avec une approche réhabilitative en expliquant l’efficacité de la méthode grâce à l’éclairage de la biomécanique\, la physiologie mais aussi la médecine énergétique.Son point de vue est global et hollistique. Cette méthode est intégrée depuis plusieurs années dans des structures thérapeutiques comme des hôpitaux et des centres de réhabilitation avec succès à travers le monde.
URL:https://cekcb.fr/event/methodes-pilates-1/
LOCATION:pontivy
ATTACH;FMTTYPE=image/jpeg:https://cekcb.fr/wp-content/uploads/2023/04/65084289_10156549176073067_4794099623155204096_n.jpg
ORGANIZER;CN="CEKCB":MAILTO:contact@cekcb.fr
END:VEVENT
BEGIN:VEVENT
DTSTART;VALUE=DATE:20250926
DTEND;VALUE=DATE:20250928
DTSTAMP:20260422T101230
CREATED:20230804T090740Z
LAST-MODIFIED:20250327T144306Z
UID:12843-1758844800-1759017599@cekcb.fr
SUMMARY:Le complexe de l’épaule – niveau 1 - Rennes
DESCRIPTION:Les pathologies neuro musculo squelettiques sont un problème de santé publique. Les maladies professionnelles et les accidents de travail du membre supérieur et particulièrement du complexe de l’épaule sont en recrudescence.\nLes douleurs de l’épaule représentent un motif de consultation fréquent\, en progression depuis une décennie. Elles touchent toutes les tranches d’âges\, les deux sexes\, les différentes ethnies et catégories sociales\, du sportif au sédentaire\, de la secrétaire au travailleur de force.\nUne personne sur deux aura une rupture de la coiffe des rotateurs après 70 ans et 50000 prothèses d’épaule sont placées chaque année dans le monde.\nLes recommandations HAS pour les prescripteurs et chirurgiens orientent en rééducation ambulatoire après chirurgie de la coiffe des rotateurs\, mais également préconisent des séances kinésithérapiques préopératoires pour améliorer l’épaule et parfois éviter l’intervention dans 70% des cas.\nLe traitement de première intention des épaules douloureuses est médical et Kinésithérapique.\nLa chirurgie est discutée en absence d’amélioration après 6 mois de traitement.
URL:https://cekcb.fr/event/le-complexe-de-lepaule-niveau-1-2/
LOCATION:Rennes
ATTACH;FMTTYPE=image/jpeg:https://cekcb.fr/wp-content/uploads/2022/04/epaule_mailjet.jpg
ORGANIZER;CN="CEKCB":MAILTO:contact@cekcb.fr
END:VEVENT
BEGIN:VEVENT
DTSTART;VALUE=DATE:20250927
DTEND;VALUE=DATE:20250929
DTSTAMP:20260422T101230
CREATED:20230802T082958Z
LAST-MODIFIED:20250327T144337Z
UID:12795-1758931200-1759103999@cekcb.fr
SUMMARY:K-Taping pour la santé de la femme et cancer du sein
DESCRIPTION:Les contentions souples ou taping peuvent optimiser et compléter toutes les techniques de kinésithérapie. De plus\, elles offrent des méthodes de thérapies supplémentaires et nouvelles\, en proposant une prise en charge en attente de chirurgie (reconstructrice par exemple)\, ainsi qu‘un soin complémentaire pour améliorer la gestion temporelle des patientes (pose de tape sur cicatrice pour se consacrer au travail manuel musculaire par exemple).
URL:https://cekcb.fr/event/k-taping-pour-la-sante-de-la-femme-et-cancer-du-sein/
LOCATION:pontivy
ATTACH;FMTTYPE=image/png:https://cekcb.fr/wp-content/uploads/2023/07/thumbnail_Capture-decran-2023-07-07-a-19.12.59.png
END:VEVENT
END:VCALENDAR