BEGIN:VCALENDAR
VERSION:2.0
PRODID:-//CEKCB - ECPv6.15.18//NONSGML v1.0//EN
CALSCALE:GREGORIAN
METHOD:PUBLISH
X-ORIGINAL-URL:https://cekcb.fr
X-WR-CALDESC:Évènements pour CEKCB
REFRESH-INTERVAL;VALUE=DURATION:PT1H
X-Robots-Tag:noindex
X-PUBLISHED-TTL:PT1H
BEGIN:VTIMEZONE
TZID:Europe/Paris
BEGIN:DAYLIGHT
TZOFFSETFROM:+0100
TZOFFSETTO:+0200
TZNAME:CEST
DTSTART:20240331T010000
END:DAYLIGHT
BEGIN:STANDARD
TZOFFSETFROM:+0200
TZOFFSETTO:+0100
TZNAME:CET
DTSTART:20241027T010000
END:STANDARD
BEGIN:DAYLIGHT
TZOFFSETFROM:+0100
TZOFFSETTO:+0200
TZNAME:CEST
DTSTART:20250330T010000
END:DAYLIGHT
BEGIN:STANDARD
TZOFFSETFROM:+0200
TZOFFSETTO:+0100
TZNAME:CET
DTSTART:20251026T010000
END:STANDARD
BEGIN:DAYLIGHT
TZOFFSETFROM:+0100
TZOFFSETTO:+0200
TZNAME:CEST
DTSTART:20260329T010000
END:DAYLIGHT
BEGIN:STANDARD
TZOFFSETFROM:+0200
TZOFFSETTO:+0100
TZNAME:CET
DTSTART:20261025T010000
END:STANDARD
END:VTIMEZONE
BEGIN:VEVENT
DTSTART;VALUE=DATE:20251002
DTEND;VALUE=DATE:20251004
DTSTAMP:20260422T082730
CREATED:20250327T144532Z
LAST-MODIFIED:20250327T144532Z
UID:16964-1759363200-1759535999@cekcb.fr
SUMMARY:Douleur chronique et fibromyalgie de l’adulte\, comprendre et agir
DESCRIPTION:La compréhension et la prise en charge rééducative des syndromes douloureux chroniques ont évolué profondément et très rapidement ces dernières années\, notamment sous l’impulsion de la recherche française et internationale.
URL:https://cekcb.fr/event/douleur-chronique-et-fibromyalgie-de-ladulte-comprendre-et-agir/
LOCATION:pontivy
END:VEVENT
BEGIN:VEVENT
DTSTART;VALUE=DATE:20251003
DTEND;VALUE=DATE:20251005
DTSTAMP:20260422T082730
CREATED:20240618T090809Z
LAST-MODIFIED:20250327T145708Z
UID:15038-1759449600-1759622399@cekcb.fr
SUMMARY:Formation à la pratique du pilates enfants pour les Kinésithérapeutes avec les outils Petit Pilates
DESCRIPTION:Joseph Hubertus Pilates\, fondateur de la méthode Pilates\, était convaincu qu’il fallait « d’abord éduquer l’enfant » et il recommandait de commencer la pratique du Pilates dès le plus jeune âge afin de convertir les bonnes habitudes en mieux et de substituer de mauvaises habitudes en bonnes habitudes. De ce constat est née la Méthode Petit Pilates©. Quand les masseurs-kinésithérapeutes veulent s’engager plus activement dans la prévention \, les outils pédagogiques uniques et ludiques crées par la méthode Petit Pilates rendent l’action préventive auprès des plus jeunes plus accessibles et plus attractifs. A travers le mouvement juste \, la pédagogie du mouvement sera un axe important à développer pour rendre les enfants et adolescents concernés par leur santé et leur bien être . Petit Pilates fait du mouvement un « allié » du soin et souhaite pouvoir rendre le travail du masseur kinésithérapeute en cabinet ludique et attractive .
URL:https://cekcb.fr/event/formation-a-la-pratique-du-pilates-enfants-pour-les-kinesitherapeutes-avec-les-outils-petit-pilates/
LOCATION:pontivy
END:VEVENT
BEGIN:VEVENT
DTSTART;VALUE=DATE:20251010
DTEND;VALUE=DATE:20251013
DTSTAMP:20260422T082730
CREATED:20230428T081228Z
LAST-MODIFIED:20250327T145224Z
UID:11997-1760054400-1760313599@cekcb.fr
SUMMARY:K taping
DESCRIPTION:Traitement des chaines musculaires et leurs fascias par bandes adhésives \nLe K-Taping peut optimiser pratiquement toutes les techniques de kinésithérapie. De plus\, il offre des méthodes de thérapie nouvelles. \nLe K-Taping est un complément thérapeutique applicable dans beaucoup de domaines pour prolonger et soutenir les traitements en cabinet. Quatre techniques de base sont enseignées. Celles-ci permettent\, une fois combinées\, des actions antalgiques\, un soutien articulaire\, une aide au drainage lymphatique et une facilitation musculaire. Les propriétés élastiques du tape permettent une totale mobilité au patient\, qui peut garder le tape plusieurs jours durant.\nLes douleurs de dos\, contractions musculaires\, problèmes articulaires\, migraine et acouphènes peuvent être soignés par le K-Taping tout autant que la dysménorrhée ou des problèmes de miction.\nDans la thérapie du drainage lymphatique\, le K-Taping offre des méthodes de suivi de traitement comme par exemple après une ablation mammaire. En ce qui concerne le sport de haut niveau le K-Taping s´est affirmé non seulement dans le secteur thérapeutique mais aussi dans les domaines de la prévention\, de l’entrainement et de la préparation. Le plus grand avantage par rapport aux thérapies conventionnelles est que le K-Taping permet au patient de garder sa totale mobilité.\nPour une application correcte de la thérapie de K-Taping\, il est indispensable de suivre la formation et d´utiliser un Tape spécialement conçu\, le K-Tape.\nGrâce à la qualité du matériel utilisé (membrane imperméable mais permettant l´évaporation)\, il est possible de porter le Tape avec un grand confort et sans gêne plusieurs journées durant\, parfois même jusqu’à deux semaines.
URL:https://cekcb.fr/event/k-taping-2/
LOCATION:pontivy
ATTACH;FMTTYPE=image/jpeg:https://cekcb.fr/wp-content/uploads/2021/02/k-taping_therapie_cou.jpg
ORGANIZER;CN="CEKCB":MAILTO:contact@cekcb.fr
END:VEVENT
BEGIN:VEVENT
DTSTART;VALUE=DATE:20251016
DTEND;VALUE=DATE:20251019
DTSTAMP:20260422T082730
CREATED:20230802T083457Z
LAST-MODIFIED:20250327T145335Z
UID:12799-1760572800-1760831999@cekcb.fr
SUMMARY:Relaxation : le Training autogène de Shultz
DESCRIPTION:Vous connaissez les désastres du stress sur l’organisme. Parmi vos patients\, combien auraient besoin\, en complément de vos soins habituels\, d’apprendre à se relaxer ? Sûrement beaucoup ! Vous ne savez pas à qui les adresser ? Pourquoi ne pas leur apprendre vous-même ? Je vous propose donc de découvrir la relaxation à travers le Training Autogène de Schultz\, pour vous d’abord et pour l’enseigner à vos patients ensuite
URL:https://cekcb.fr/event/relaxation-le-training-autogene-de-shultz-2/
LOCATION:pontivy
ORGANIZER;CN="CEKCB":MAILTO:contact@cekcb.fr
END:VEVENT
END:VCALENDAR