BEGIN:VCALENDAR
VERSION:2.0
PRODID:-//CEKCB - ECPv6.15.18//NONSGML v1.0//EN
CALSCALE:GREGORIAN
METHOD:PUBLISH
X-WR-CALNAME:CEKCB
X-ORIGINAL-URL:https://cekcb.fr
X-WR-CALDESC:Évènements pour CEKCB
REFRESH-INTERVAL;VALUE=DURATION:PT1H
X-Robots-Tag:noindex
X-PUBLISHED-TTL:PT1H
BEGIN:VTIMEZONE
TZID:Europe/Paris
BEGIN:DAYLIGHT
TZOFFSETFROM:+0100
TZOFFSETTO:+0200
TZNAME:CEST
DTSTART:20240331T010000
END:DAYLIGHT
BEGIN:STANDARD
TZOFFSETFROM:+0200
TZOFFSETTO:+0100
TZNAME:CET
DTSTART:20241027T010000
END:STANDARD
BEGIN:DAYLIGHT
TZOFFSETFROM:+0100
TZOFFSETTO:+0200
TZNAME:CEST
DTSTART:20250330T010000
END:DAYLIGHT
BEGIN:STANDARD
TZOFFSETFROM:+0200
TZOFFSETTO:+0100
TZNAME:CET
DTSTART:20251026T010000
END:STANDARD
BEGIN:DAYLIGHT
TZOFFSETFROM:+0100
TZOFFSETTO:+0200
TZNAME:CEST
DTSTART:20260329T010000
END:DAYLIGHT
BEGIN:STANDARD
TZOFFSETFROM:+0200
TZOFFSETTO:+0100
TZNAME:CET
DTSTART:20261025T010000
END:STANDARD
END:VTIMEZONE
BEGIN:VEVENT
DTSTART;VALUE=DATE:20251103
DTEND;VALUE=DATE:20251105
DTSTAMP:20260422T062621
CREATED:20230427T141519Z
LAST-MODIFIED:20250808T141643Z
UID:11974-1762128000-1762300799@cekcb.fr
SUMMARY:Kinésithérapie et cancer du sein
DESCRIPTION:L’évolution technique de la prise en charge médicale de la patiente atteinte d’un cancer du sein amène le kinésithérapeute a évolué avec les changements et à adapter ses techniques \nLa kinésithérapie précoce et adaptée permet de traiter les nombreuses séquelles qui surviennent après la chirurgie du sein. Trop peu de kinésithérapeutes étant formés aux techniques spécifiques à la prise en charge post opératoire des cancers du sein\, il nous est apparu nécessaire de proposer une formation qui permettra aux kinésithérapeutes d’assurer la continuité du parcours de soins de support des patientes.
URL:https://cekcb.fr/event/kinesitherapie-et-cancer-du-sein/
LOCATION:pontivy
ATTACH;FMTTYPE=image/jpeg:https://cekcb.fr/wp-content/uploads/2023/04/Mammographie-cancer.jpg
ORGANIZER;CN="CEKCB":MAILTO:contact@cekcb.fr
END:VEVENT
BEGIN:VEVENT
DTSTART;VALUE=DATE:20251105
DTEND;VALUE=DATE:20251108
DTSTAMP:20260422T062621
CREATED:20220809T094111Z
LAST-MODIFIED:20250327T151906Z
UID:9468-1762300800-1762559999@cekcb.fr
SUMMARY:Yoga pré et post natal
DESCRIPTION:Cette formation vous permettra de comprendre l’intérêt du yoga dans les prises en charge de la femme enceinte et de la jeune maman\, d’utiliser le yoga comme thérapie au sein de son cabinet\, et de savoir adapter les postures pendant la grossesse\, préparer l’accouchement\, et en post natal.
URL:https://cekcb.fr/event/yoga-pre-et-post-natal/
LOCATION:pontivy
ORGANIZER;CN="CEKCB":MAILTO:contact@cekcb.fr
END:VEVENT
BEGIN:VEVENT
DTSTART;VALUE=DATE:20251113
DTEND;VALUE=DATE:20251116
DTSTAMP:20260422T062621
CREATED:20250326T093423Z
LAST-MODIFIED:20250326T093526Z
UID:16954-1762992000-1763251199@cekcb.fr
SUMMARY:NUTRITION SANTE POUR KINE
DESCRIPTION:Formation nutrition santé pour kinés afin de comprendre et traiter les causes alimentaires de l’inflammation et des rhumatismes
URL:https://cekcb.fr/event/nutrition-sante-pour-kine/
LOCATION:pontivy
END:VEVENT
BEGIN:VEVENT
DTSTART;VALUE=DATE:20251114
DTEND;VALUE=DATE:20251116
DTSTAMP:20260422T062621
CREATED:20230804T090956Z
LAST-MODIFIED:20250327T151554Z
UID:12846-1763078400-1763251199@cekcb.fr
SUMMARY:Le complexe de l’épaule – niveau 2
DESCRIPTION:Les pathologies neuro musculo squelettiques sont un problème de santé publique. \nLes maladies professionnelles et les accidents de travail du membre supérieur et particulièrement du complexe de l’épaule sont en recrudescence. \nLes douleurs de l’épaule mais également du coude représentent un motif de consultation fréquent\, en progression depuis une décennie. \nElles touchent toutes les tranches d’âges\, les deux sexes\, les différentes ethnies et catégories sociales\, du sportif au sédentaire\, de la secrétaire au travailleur de force. \nUne personne sur deux aura une rupture de la coiffe des rotateurs après 70 ans et 50 000 prothèses d’épaule sont placées chaque année dans le monde. \nLes recommandations HAS pour les prescripteurs et chirurgiens orientent en rééducation ambulatoire après chirurgie de la coiffe des rotateurs\, mais également préconisent des séances kinésithérapiques préopératoires pour améliorer l’épaule et parfois éviter l’intervention dans 70% des cas. \nLe traitement de première intention des épaules douloureuses est médical et Kinésithérapique. \nLa chirurgie est discutée en absence d’amélioration après 6 mois de traitement. \nPour ces raisons les patients atteints d’une pathologie neuro musculo squelettique de l’épaule vont être orientés de plus en plus vers les cabinets de kinésithérapie libéraux. \nLes besoins de kinésithérapeutes formés aux techniques spécifiques de rééducation de l’épaule sont importants. \nLes kinésithérapeutes sont également demandeurs de formation spécifique\, pour répondre à la demande croissante de ce type de pathologie. \nIl est important que les kinésithérapeutes éduquent leurs patients à l’auto-rééducation pour pérenniser les résultats\, éviter l’échec du traitement et l’apparition de récidive. \nLa prévention est une compétence kinésithérapique qui va se développer\, et prendre une place importante dans les années à venir.
URL:https://cekcb.fr/event/le-complexe-de-lepaule-niveau-2/
LOCATION:pontivy
ATTACH;FMTTYPE=image/jpeg:https://cekcb.fr/wp-content/uploads/2022/04/epaule_mailjet.jpg
ORGANIZER;CN="CEKCB":MAILTO:contact@cekcb.fr
END:VEVENT
BEGIN:VEVENT
DTSTART;VALUE=DATE:20251120
DTEND;VALUE=DATE:20251122
DTSTAMP:20260422T062621
CREATED:20230427T152130Z
LAST-MODIFIED:20250327T151529Z
UID:11989-1763596800-1763769599@cekcb.fr
SUMMARY:VENTILATION\, Syndrome d’APNÉES OBSTRUCTIVES du SOMMEIL- Rennes
DESCRIPTION:Montrer que le Masseur-Kinésithérapeute a un grand rôle à jouer dans les SAOS.\nDévelopper les moyens qu’il pourra mettre en œuvre\, parallèlement aux autres traitements tels que les appareils de respiration à pression continue positive et les orthèses d’avancée mandibulaire. \nLe syndrome d’apnée du sommeil toucherait entre 1 et 3 millions de personnes en France mais près de 80 % ne seraient pas diagnostiquées. Il existe pourtant des traitements efficaces pour lutter contre ces apnées et leurs multiples conséquences sur la santé. \nLe syndrome d apnées obstructives du sommeil est reconnu comme un problème de santé publique par ses conséquences sur l’ aggravation des problèmes cardio-vasculaires.
URL:https://cekcb.fr/event/ventilation-syndrome-dapnees-obstructives-du-sommeil/
LOCATION:Rennes
ORGANIZER;CN="CEKCB":MAILTO:contact@cekcb.fr
END:VEVENT
BEGIN:VEVENT
DTSTART;VALUE=DATE:20251121
DTEND;VALUE=DATE:20251123
DTSTAMP:20260422T062621
CREATED:20230428T090655Z
LAST-MODIFIED:20250327T144747Z
UID:12034-1763683200-1763855999@cekcb.fr
SUMMARY:Méthode Pilates - M2
DESCRIPTION:Découverte de la méthode Pilates pour Kinésithérapeutes en deux modules indissociables\nVous avez beaucoup entendu parlé de la méthode Pilates et vous êtes curieux ? \n\nVous souhaitez développer une pratique de cours de gym collectif au sein de votre cabinet afin de diversifier votre activité?\nPolestar Pilates et son équipe \, vous proposent une formation introductive spécialement conçue pour vous\, kinésithérapeutes. Polestar Pilates\, est l’une des écoles leader du marché International . Elle a été crée aux états Unis par le Dr Brent Anderson au début des années 1990.\nSa spécialité est d’enseigner la méthode Pilates avec une approche réhabilitative en expliquant l’efficacité de la méthode grâce à l’éclairage de la biomécanique\, la physiologie mais aussi la médecine énergétique.Son point de vue est global et hollistique. Cette méthode est intégrée depuis plusieurs années dans des structures thérapeutiques comme des hôpitaux et des centres de réhabilitation avec succès à travers le monde.
URL:https://cekcb.fr/event/methode-pilates-m2/
LOCATION:pontivy
ORGANIZER;CN="CEKCB":MAILTO:contact@cekcb.fr
END:VEVENT
BEGIN:VEVENT
DTSTART;VALUE=DATE:20251121
DTEND;VALUE=DATE:20251123
DTSTAMP:20260422T062621
CREATED:20230428T091227Z
LAST-MODIFIED:20250327T151509Z
UID:12041-1763683200-1763855999@cekcb.fr
SUMMARY:Mc Kenzie - MDP partie E
DESCRIPTION:Cours E – Perfectionnement sur les Extrémités \nCe cours de 2 jours (14 heures) traite de l’approfondissement de l’application des concepts présentés en partie C et D pour l’application du MDT aux TMS des membres. \nLes différents éléments du bilan sont revus : \n– La recherche de marqueurs\, \n– La recherche d’éléments qui permettent de classifier les patients par syndrome\, \n– Les critères qui guident l’exploration des tests des mouvements répétés ou des contractions résistées répétées. \nL’avancement des études scientifiques publiées en rapport avec l’approche McKenzie appliquées aux TMS sera passée en revue. Il en est de même concernant l’état de la connaissance scientifique sur les dysfonctions contractiles. \nEn ce qui concerne le traitement\, des exemples de progressions de forces et de forces alternatives seront présentés en rapport avec les articulations et les groupes musculaires principaux.
URL:https://cekcb.fr/event/mc-kenzie-mdp-partie-p/
LOCATION:pontivy
ORGANIZER;CN="CEKCB":MAILTO:contact@cekcb.fr
END:VEVENT
BEGIN:VEVENT
DTSTART;VALUE=DATE:20251121
DTEND;VALUE=DATE:20251123
DTSTAMP:20260422T062621
CREATED:20250221T090604Z
LAST-MODIFIED:20250221T090715Z
UID:16646-1763683200-1763855999@cekcb.fr
SUMMARY:Sensibilisation au Stretching-Postural® Méthode Jean-Pierre Moreau®
DESCRIPTION:Les principes de la technique du Stretching Postural®\nLe Stretching Postural® est une technique corporelle statique globale assurée par des respirations\nspécifiques. Seuls les moyens d’actions sont donnés\, non les buts.\nLa méthodologie est précise\, tant pendant les postures que pendant les séances.\nLa finalité d’une posture dépend de la rigueur du placement et d’une utilisation correcte des moyens.\nLe travail d’appuis\, de repères extéroceptifs et proprioceptifs ainsi qu’une construction musculaire intense\namènent une puissance du corps.
URL:https://cekcb.fr/event/sensibilisation-au-stretching-postural-methode-jean-pierre-moreau/
LOCATION:pontivy
ORGANIZER;CN="CEKCB":MAILTO:contact@cekcb.fr
END:VEVENT
BEGIN:VEVENT
DTSTART;VALUE=DATE:20251127
DTEND;VALUE=DATE:20251130
DTSTAMP:20260422T062621
CREATED:20230427T152908Z
LAST-MODIFIED:20250327T152414Z
UID:11991-1764201600-1764460799@cekcb.fr
SUMMARY:Massage ayurvédique Abhyanga
DESCRIPTION:Massage Ayurvédique « ABHYANGA »\nMassage du membre inférieur « PADABHYANGA »\nMassage du pied au bol « KANSU »\nSanté – Bien-être – Relaxation\nLe massage « ABHYANGA » est le plus connu et le plus couramment pratiqué des massages âyurvédiques.\nIl se pratique sur table comme au sol et répond parfaitement à la demande du massage bien-être tel qu’il peut être proposé par le kinésithérapeute.\nS’il existe\, chez nous comme en Inde\, différentes manières de pratiquer l’abhyanga\, il reste toujours un massage à l’huile\, doux\, de l’ensemble du corps.\nIl vise\, à travers la régulation de ce que la médecine âyurvédique (ou «âyurvéda ») appelle « l’énergie de base vâta » :\n– Le bien-être et la relaxation.\n– La réunification physique de l’individu et son recentrage énergétique.\nIl convient particulièrement au sujet stressé et fatigué\, à l’insomniaque et dans les cas de surmenage intellectuel ou physique.\nC’est aussi\, dans le cadre du post partum\, le massage utilisé quotidiennement dans les trois mois qui suivent l’accouchement.
URL:https://cekcb.fr/event/massage-ayurvedique/
LOCATION:pontivy
ATTACH;FMTTYPE=image/jpeg:https://cekcb.fr/wp-content/uploads/2023/04/Capture.jpg
ORGANIZER;CN="CEKCB":MAILTO:contact@cekcb.fr
END:VEVENT
BEGIN:VEVENT
DTSTART;VALUE=DATE:20251127
DTEND;VALUE=DATE:20251201
DTSTAMP:20260422T062621
CREATED:20230428T093727Z
LAST-MODIFIED:20250327T151956Z
UID:12061-1764201600-1764547199@cekcb.fr
SUMMARY:Méthode McKenzie - module A
DESCRIPTION:Cours A – La Colonne lombaire\n \nCe cours de 4 jours de présentiel (28 heures) présente l’application du MDT (Diagnostic et Thérapie Mécanique\, aussi appelé méthode McKenzie) à l’examen et au traitement de patients présentant des douleurs lombaires\, des sciatalgies ou des cruralgies. Le séminaire couvre les bases théoriques et scientifiques pour cette région de la colonne vertébrale et comprend de nombreux travaux pratiques. Le participant apprendra à classifier les patients en syndromes homogènes pour lesquels des protocoles spécifiques et individualisés sont proposés.
URL:https://cekcb.fr/event/methode-mckenzie-module-a/
LOCATION:pontivy
ORGANIZER;CN="CEKCB":MAILTO:contact@cekcb.fr
END:VEVENT
END:VCALENDAR