BEGIN:VCALENDAR
VERSION:2.0
PRODID:-//CEKCB - ECPv6.15.18//NONSGML v1.0//EN
CALSCALE:GREGORIAN
METHOD:PUBLISH
X-ORIGINAL-URL:https://cekcb.fr
X-WR-CALDESC:Évènements pour CEKCB
REFRESH-INTERVAL;VALUE=DURATION:PT1H
X-Robots-Tag:noindex
X-PUBLISHED-TTL:PT1H
BEGIN:VTIMEZONE
TZID:Europe/Paris
BEGIN:DAYLIGHT
TZOFFSETFROM:+0100
TZOFFSETTO:+0200
TZNAME:CEST
DTSTART:20240331T010000
END:DAYLIGHT
BEGIN:STANDARD
TZOFFSETFROM:+0200
TZOFFSETTO:+0100
TZNAME:CET
DTSTART:20241027T010000
END:STANDARD
BEGIN:DAYLIGHT
TZOFFSETFROM:+0100
TZOFFSETTO:+0200
TZNAME:CEST
DTSTART:20250330T010000
END:DAYLIGHT
BEGIN:STANDARD
TZOFFSETFROM:+0200
TZOFFSETTO:+0100
TZNAME:CET
DTSTART:20251026T010000
END:STANDARD
BEGIN:DAYLIGHT
TZOFFSETFROM:+0100
TZOFFSETTO:+0200
TZNAME:CEST
DTSTART:20260329T010000
END:DAYLIGHT
BEGIN:STANDARD
TZOFFSETFROM:+0200
TZOFFSETTO:+0100
TZNAME:CET
DTSTART:20261025T010000
END:STANDARD
END:VTIMEZONE
BEGIN:VEVENT
DTSTART;VALUE=DATE:20251204
DTEND;VALUE=DATE:20251207
DTSTAMP:20260422T043816
CREATED:20230721T151234Z
LAST-MODIFIED:20250327T154014Z
UID:12712-1764806400-1765065599@cekcb.fr
SUMMARY:Dépistage\, Rééducation et Éducation thérapeutique du patient dans les Dysfonctions de l’Appareil Manducateur - Rennes
DESCRIPTION:Les douleurs et les problèmes d’ATM concernent 50 à 70% de la population et le kinésithérapeute\, dans le champ de son domaine de compétence\, peut\, en collaboration avec les Chirurgiens-Dentistes et les Orthodontistes\, aider ces patients à retrouver des fonctions masticatrices normales. \nLa prise en charge du Dysfonctionnement de l’Appareil Manducateur (DAM)\, pluridisciplinaire\, vous demande\, Masseurs Kinésithérapeutes\, une connaissance spécifique de l’anatomie\, de la physiologie des ATM et des différentes fonctions oro-maxillo-faciales. \nCe stage de rééducation des DAM va vous permettre\, en complément de la Rééducation des praxies linguales quand elle s’avère nécessaire\, de soulager vos patients et de leur faire retrouver une fonction masticatoire fonctionnelle. \nCe stage vous apprendra à connaître et à maîtriser ces différentes phases.\nLa rééducation des dyspraxies linguales et la relaxation globale sont abordées mais font l’objet d’autres stages.
URL:https://cekcb.fr/event/depistage-reeducation-et-education-therapeutique-du-patient-dans-les-dysfonctions-de-lappareil-manducateur/
LOCATION:Rennes
ATTACH;FMTTYPE=image/jpeg:https://cekcb.fr/wp-content/uploads/2020/06/atm_web2.jpg
ORGANIZER;CN="CEKCB":MAILTO:contact@cekcb.fr
END:VEVENT
BEGIN:VEVENT
DTSTART;VALUE=DATE:20251205
DTEND;VALUE=DATE:20251207
DTSTAMP:20260422T043816
CREATED:20230427T094324Z
LAST-MODIFIED:20250327T153403Z
UID:11932-1764892800-1765065599@cekcb.fr
SUMMARY:Prise en charge des épicondylalgies
DESCRIPTION:Autonomisation du patient en rééducation des troubles musculo-squelettiques concernant la prise en charge des épicondylalgies de l’adulte
URL:https://cekcb.fr/event/prise-en-charge-des-epicondylalgies/
LOCATION:pontivy
ORGANIZER;CN="CEKCB":MAILTO:contact@cekcb.fr
END:VEVENT
BEGIN:VEVENT
DTSTART;VALUE=DATE:20251205
DTEND;VALUE=DATE:20251207
DTSTAMP:20260422T043816
CREATED:20220809T092535Z
LAST-MODIFIED:20250327T143211Z
UID:9455-1764892800-1765065599@cekcb.fr
SUMMARY:Méthodes Pilates M3
DESCRIPTION:Ce module incorpore un mélange unique d’exercices de Pilates sur tapis avec de petits accessoires pour améliorer et étoffer votre répertoire d’exercices. L’accent continuera également d’être mis sur la modification des exercices pour les populations ayant des besoins spéciaux. Dans ce module\, les temps de pratique incorporeront des transitions d’exercices et des chorégraphies pour améliorer la qualité de votre programme de Pilates sur tapis.\nCe module couvre également la conception de séances de groupe dans lesquelles nous discuterons du programme de cours sur tapis pour plusieurs niveaux.
URL:https://cekcb.fr/event/methodes-pilates-m3/
LOCATION:Nantes
ATTACH;FMTTYPE=image/jpeg:https://cekcb.fr/wp-content/uploads/2022/08/65084289_10156549176073067_4794099623155204096_n.jpg
ORGANIZER;CN="CEKCB":MAILTO:contact@cekcb.fr
END:VEVENT
BEGIN:VEVENT
DTSTART;VALUE=DATE:20251210
DTEND;VALUE=DATE:20251212
DTSTAMP:20260422T043816
CREATED:20240726T090828Z
LAST-MODIFIED:20250425T100247Z
UID:15368-1765324800-1765497599@cekcb.fr
SUMMARY:Les dysfonctions de l’Ilio Psoas dans les troubles de la sphère abdomino pelvienne
DESCRIPTION:De par ses origines\, trajet et terminaison depuis les dernières dorsales\, tout le long de la sphère viscérale \,jusqu’au petit trochanter \,l’Ilio Psoas peut être le tenant ou l’aboutissant de près ou à distance de dysfonctions très variées qu’il faudra investiguer de manière globale \nCette formation vous permettra de repérer\, solutionner et traiter de façon efficace plusieurs motifs de consultations en ayant un regard désormais global et holistique sur ce muscle \, ses dysfonctions et ses conséquences . \nUn panel de solutions vous sera proposé afin de répondre aux attentes de vos patients. \nToutes les techniques seront reproductibles et pourront être mises en application dès le lendemain de la formation. \nResponsable mais pas coupable l’étude de l’Ilio Psoas mérite qu’on s’y attarde.
URL:https://cekcb.fr/event/les-dysfonctions-de-lilio-psoas-dans-les-troubles-de-la-sphere-abdomino-pelvienne-2/
LOCATION:pontivy
ATTACH;FMTTYPE=image/jpeg:https://cekcb.fr/wp-content/uploads/2022/02/0f1849605b87c608324dcda622c7dd84-face-down-belly-button.jpg
ORGANIZER;CN="CEKCB":MAILTO:contact@cekcb.fr
END:VEVENT
BEGIN:VEVENT
DTSTART;VALUE=DATE:20251211
DTEND;VALUE=DATE:20251213
DTSTAMP:20260422T043816
CREATED:20240726T090451Z
LAST-MODIFIED:20251110T082233Z
UID:15366-1765411200-1765583999@cekcb.fr
SUMMARY:Prise en charge des cervicalgies
DESCRIPTION:Cette formation présentielle sur deux jours sera précédée en aval du stage d’une grille EPP que vous devrez remplir et renseigner\, puis à distance du stage vous recevrez une nouvelle grille EPP qui validera vos acquis lors de cette formation. \nAu cours des deux jours\, nous reprendrons les différents items qui composent cette grille\, correspondants aux savoirs nécessaires pour poser un diagnostic kinésithérapique\, de mettre en place une stratégie thérapeutique selon les données du bilan du patient et d’évaluer votre traitement pour vous-même\, votre prescripteur\, et votre patient.
URL:https://cekcb.fr/event/prise-en-charge-des-cervicalgies-2/
LOCATION:pontivy
ATTACH;FMTTYPE=image/png:https://cekcb.fr/wp-content/uploads/2023/06/Image4.png
ORGANIZER;CN="CEKCB":MAILTO:contact@cekcb.fr
END:VEVENT
BEGIN:VEVENT
DTSTART;VALUE=DATE:20251212
DTEND;VALUE=DATE:20251214
DTSTAMP:20260422T043816
CREATED:20230428T095833Z
LAST-MODIFIED:20250808T142029Z
UID:12079-1765497600-1765670399@cekcb.fr
SUMMARY:RÉÉDUCATION DE LA MAIN EN PRATIQUE COURANTE et ÉDUCATION THÉRAPEUTIQUE
DESCRIPTION:Les pathologies de la main et du poignet peuvent être simples\, comme une entorse digitale\, mais entraînant parfois des troubles de la fonction manuelle et de la dextérité ; elles peuvent être complexes\, touchant la motricité (lésions osseuses\, articulaires\, musculaires\, tendineuses\, nerveuses)\, touchant la trophicité (troubles de la sensibilité\, de la vascularisation\, de la peau). La main et le poignet sont aussi concernés par de nombreux troubles musculo squelettiques et maladies dégénératives.
URL:https://cekcb.fr/event/reeducation-de-la-main-en-pratique-courante-et-education-therapeutique/
LOCATION:pontivy
ATTACH;FMTTYPE=image/jpeg:https://cekcb.fr/wp-content/uploads/2021/04/reeducation_syndrome_complexe.jpg
ORGANIZER;CN="CEKCB":MAILTO:contact@cekcb.fr
END:VEVENT
BEGIN:VEVENT
DTSTART;VALUE=DATE:20251213
DTEND;VALUE=DATE:20251214
DTSTAMP:20260422T043816
CREATED:20240916T124843Z
LAST-MODIFIED:20250327T153419Z
UID:15623-1765584000-1765670399@cekcb.fr
SUMMARY:Rééducation en carcinologie de la face et des voies aéro-digestives supérieures
DESCRIPTION:
URL:https://cekcb.fr/event/reeducation-en-carcinologie-de-la-face-et-des-voies-aero-digestives-superieures/
LOCATION:pontivy
ORGANIZER;CN="CEKCB":MAILTO:contact@cekcb.fr
END:VEVENT
BEGIN:VEVENT
DTSTART;VALUE=DATE:20251218
DTEND;VALUE=DATE:20251221
DTSTAMP:20260422T043816
CREATED:20250327T153528Z
LAST-MODIFIED:20250327T153919Z
UID:16972-1766016000-1766275199@cekcb.fr
SUMMARY:Thérapies corporelles et Fertilité
DESCRIPTION:Cette formation a pour objectif de permettre aux professionnels de santé de se spécialiser dans le domaine de la fertilité via une approche corporelle holistique de leurs patientes en utilisant des techniques telles que la thérapie manuelle\, l’acupression\, la réflexologie ainsi que le yoga.
URL:https://cekcb.fr/event/therapies-corporelles-et-fertilite/
LOCATION:pontivy
ATTACH;FMTTYPE=image/png:https://cekcb.fr/wp-content/uploads/2025/03/formation-therapie-manuelle-fertilite-cekcb.png
ORGANIZER;CN="CEKCB":MAILTO:contact@cekcb.fr
END:VEVENT
END:VCALENDAR