BEGIN:VCALENDAR
VERSION:2.0
PRODID:-//CEKCB - ECPv6.15.18//NONSGML v1.0//EN
CALSCALE:GREGORIAN
METHOD:PUBLISH
X-ORIGINAL-URL:https://cekcb.fr
X-WR-CALDESC:Évènements pour CEKCB
REFRESH-INTERVAL;VALUE=DURATION:PT1H
X-Robots-Tag:noindex
X-PUBLISHED-TTL:PT1H
BEGIN:VTIMEZONE
TZID:Europe/Paris
BEGIN:DAYLIGHT
TZOFFSETFROM:+0100
TZOFFSETTO:+0200
TZNAME:CEST
DTSTART:20250330T010000
END:DAYLIGHT
BEGIN:STANDARD
TZOFFSETFROM:+0200
TZOFFSETTO:+0100
TZNAME:CET
DTSTART:20251026T010000
END:STANDARD
BEGIN:DAYLIGHT
TZOFFSETFROM:+0100
TZOFFSETTO:+0200
TZNAME:CEST
DTSTART:20260329T010000
END:DAYLIGHT
BEGIN:STANDARD
TZOFFSETFROM:+0200
TZOFFSETTO:+0100
TZNAME:CET
DTSTART:20261025T010000
END:STANDARD
BEGIN:DAYLIGHT
TZOFFSETFROM:+0100
TZOFFSETTO:+0200
TZNAME:CEST
DTSTART:20270328T010000
END:DAYLIGHT
BEGIN:STANDARD
TZOFFSETFROM:+0200
TZOFFSETTO:+0100
TZNAME:CET
DTSTART:20271031T010000
END:STANDARD
END:VTIMEZONE
BEGIN:VEVENT
DTSTART;VALUE=DATE:20260304
DTEND;VALUE=DATE:20260306
DTSTAMP:20260421T230923
CREATED:20230804T093028Z
LAST-MODIFIED:20260122T091259Z
UID:12865-1772582400-1772755199@cekcb.fr
SUMMARY:M test (Qchi M)
DESCRIPTION:Lors de cette formation\, vous serez initié aux 12 méridiens principaux\, une première approche à la médecine traditionnelle chinoise. \nCette formation innovante de deux jours combine la médecine traditionnelle chinoise avec des pratiques modernes de kinésithérapie pour traiter les troubles musculo-squelettiques. Idéale pour les kinésithérapeutes\,  elle offre une approche pratique et théorique pour intégrer les méridiens et les chaînes musculaires dans les traitements\, permettant une approche holistique et efficace de la gestion de la douleur et de la mobilité
URL:https://cekcb.fr/event/qchi-m-2/
LOCATION:pontivy
ATTACH;FMTTYPE=image/jpeg:https://cekcb.fr/wp-content/uploads/2023/08/12-energie-1.jpg
ORGANIZER;CN="CEKCB":MAILTO:contact@cekcb.fr
END:VEVENT
BEGIN:VEVENT
DTSTART;VALUE=DATE:20260306
DTEND;VALUE=DATE:20260308
DTSTAMP:20260421T230923
CREATED:20230802T083902Z
LAST-MODIFIED:20251222T115345Z
UID:12804-1772755200-1772927999@cekcb.fr
SUMMARY:Méthode Pilates M1 - Rennes
DESCRIPTION:Découverte de la méthode Pilates pour Kinésithérapeutes en deux modules indissociables\nVous avez beaucoup entendu parlé de la méthode Pilates et vous êtes curieux ? \n\nVous souhaitez développer une pratique de cours de gym collectif au sein de votre cabinet afin de diversifier votre activité?\nPolestar Pilates et son équipe \, vous proposent une formation introductive spécialement conçue pour vous\, kinésithérapeutes. Polestar Pilates\, est l’une des écoles leader du marché International . Elle a été crée aux états Unis par le Dr Brent Anderson au début des années 1990.\nSa spécialité est d’enseigner la méthode Pilates avec une approche réhabilitative en expliquant l’efficacité de la méthode grâce à l’éclairage de la biomécanique\, la physiologie mais aussi la médecine énergétique.Son point de vue est global et hollistique. Cette méthode est intégrée depuis plusieurs années dans des structures thérapeutiques comme des hôpitaux et des centres de réhabilitation avec succès à travers le monde.
URL:https://cekcb.fr/event/methode-pilates-m1/
LOCATION:Rennes
ORGANIZER;CN="CEKCB":MAILTO:contact@cekcb.fr
END:VEVENT
BEGIN:VEVENT
DTSTART;VALUE=DATE:20260306
DTEND;VALUE=DATE:20260308
DTSTAMP:20260421T230923
CREATED:20230804T093605Z
LAST-MODIFIED:20250808T145555Z
UID:12870-1772755200-1772927999@cekcb.fr
SUMMARY:REEDUCATION MAXILLO FACIALE Traumatologie faciale
DESCRIPTION:Les traumatismes de la région faciale sont courants. AVP\, accidents de sport\, chute\, rixes… sont autant de pourvoyeurs. Le patient peut présenter des factures du massif facial\, des cicatrices\, des hématomes et des œdèmes. \nLes fractures de la mandibule sont des fractures faciales  fréquentes . Elles impliquent le processus condylien dans 72 à 80 % des cas. \nLe principal risque de ces fractures\, en dehors de l’impotence fonctionnelle en phase aigüe\, réside dans les séquelles fonctionnelles : asymétrie faciale\, limitation d’amplitude articulaire voire ankylose. \nL’objectif de la prise en charge est double : restaurer une fonction articulaire et chez l’enfant\, préserver le potentiel de croissance mandibulaire. \nEn traitement exclusif ou associé à la chirurgie\, le traitement rééducatif des fractures du condyle mandibulaire est nécessaire à la prévention de la survenue d’ankylose. Il permet la récupération des amplitudes articulaires et dans de nombreux cas d’éviter une chirurgie. \nLa traumatologie faciale comme la chirurgie faciale s’accompagne souvent de cicatrices et œdème faciaux leur prise en charge permet d’optimiser la récupération (Les cancers des voies aéro-digestives supérieures arrivent au 4ème rang des cancers chez l’homme. Ils génèrent des séquelles post-chirurgicales souvent lourdes\, tant esthétiques que fonctionnelles : cicatrices\, importants lymphœdèmes liés au curage ganglionnaire ou paralysies faciales.) \nLe dernier rapport du collège de masso-kinésithérapie montre qu’une prise en charge rééducative précoce peut minimiser la\, pathogénèse des cicatrices. \nAlternative ou complément de la chirurgie\, un traitement rééducatif bien mené peut prévenir ou minimiser les séquelles. \nEn médecine et chirurgie esthétique les suites et complications sur lesquelles le kinésithérapeute peut intervenir sont nombreuses : mauvaise répartition des produits injectés\, œdème\, parésies et paralysies\, hématomes\, tensions musculaires\, évolution cicatricielle. Dans ce domaine\, associer la MK à la chirurgie permet de minimiser les suites opératoires\, de minimiser l’éviction sociale\, d’améliorer le résultat et d’éviter nombre de complications. \nAu cours de cette formation\, les participants actualiseront leurs connaissances en traumatologie faciale\, sur les lymphœdèmes faciaux et les particularité de prise en charge en fonction des lésions\, ainsi que les techniques innovantes permettant de les traiter. Ils sauront adapter leur posture à l’âge du patient.  Ils apprendront comment construire un programme d’éducation thérapeutique (exercices d’auto-rééducation et conseils d’hygiène de vie) qui optimisera les résultats. \nCette formation basée sur l’EBP a pour but d’actualiser les connaissances théoriques et pratiques des participants.
URL:https://cekcb.fr/event/reeducation-maxillo-faciale-traumatologie-faciale/
LOCATION:pontivy
ATTACH;FMTTYPE=image/png:https://cekcb.fr/wp-content/uploads/2022/08/Image2.png
ORGANIZER;CN="CEKCB":MAILTO:contact@cekcb.fr
END:VEVENT
BEGIN:VEVENT
DTSTART;VALUE=DATE:20260306
DTEND;VALUE=DATE:20260308
DTSTAMP:20260421T230923
CREATED:20250808T145803Z
LAST-MODIFIED:20250808T145803Z
UID:18359-1772755200-1772927999@cekcb.fr
SUMMARY:https://cekcb.fr/autres-formations/triage-et-acces-direct-en-kinesitherapie/
DESCRIPTION:La formation Triage et accès direct en kinésithérapie a vu le jour suite à l’évolution actuelles des conditions de prise en charge en kinésithérapie et le manque potentiel de connaissance et de\npratique face à la nécessité d’un triage lors de l’accueil de patients en accès direct dans le cadre de la lombalgie aigüe et du traumatisme de cheville. La formation se justifie également dans le contexte de l’accueil de patients dans un circuit de soin classique\, à visée de dépistage ou de prévention d’une potentielle complication entre la consultation médicale et la prise en charge kinésithérapique.
URL:https://cekcb.fr/event/https-www-cekcb-fr-autres-formations-triage-et-acces-direct-en-kinesitherapie/
LOCATION:pontivy
ORGANIZER;CN="CEKCB":MAILTO:contact@cekcb.fr
END:VEVENT
BEGIN:VEVENT
DTSTART;VALUE=DATE:20260311
DTEND;VALUE=DATE:20260315
DTSTAMP:20260421T230923
CREATED:20230804T094937Z
LAST-MODIFIED:20250808T150137Z
UID:12881-1773187200-1773532799@cekcb.fr
SUMMARY:Mc Kenzie – MDT Module B
DESCRIPTION:Cours B – La colonne cervicale et thoracique\n \nCe cours de 4 jours de présentiel (28 heures) présente l’application du MDT (Diagnostic et Thérapie Mécanique\, aussi appelé méthode McKenzie) à l’examen et au traitement de patients présentant des douleurs cervicales\, avec ou sans névralgies cervico-brachiales\, ou des douleurs thoraciques. Les céphalées cervicogéniques sont aussi abordées dans cette formation. Le séminaire couvre les bases théoriques et scientifiques pour ces régions de la colonne vertébrale et comprend de nombreux travaux pratiques. Le participant apprendra à classifier les patients en syndromes homogènes pour lesquels des protocoles spécifiques et individualisés sont proposés.
URL:https://cekcb.fr/event/mc-kenzie-mdt-module-b-2/
LOCATION:pontivy
ORGANIZER;CN="CEKCB":MAILTO:contact@cekcb.fr
END:VEVENT
BEGIN:VEVENT
DTSTART;VALUE=DATE:20260312
DTEND;VALUE=DATE:20260314
DTSTAMP:20260421T230923
CREATED:20230804T091418Z
LAST-MODIFIED:20251024T153415Z
UID:12848-1773273600-1773446399@cekcb.fr
SUMMARY:Kinésithérapie et cancer du sein
DESCRIPTION:L’évolution technique de la prise en charge médicale de la patiente atteinte d’un cancer du sein amène le kinésithérapeute a évolué avec les changements et à adapter ses techniques \nLa kinésithérapie précoce et adaptée permet de traiter les nombreuses séquelles qui surviennent après la chirurgie du sein. Trop peu de kinésithérapeutes étant formés aux techniques spécifiques à la prise en charge post opératoire des cancers du sein\, il nous est apparu nécessaire de proposer une formation qui permettra aux kinésithérapeutes d’assurer la continuité du parcours de soins de support des patientes.
URL:https://cekcb.fr/event/kinesitherapie-et-cancer-du-sein-2/
LOCATION:pontivy
ATTACH;FMTTYPE=image/jpeg:https://cekcb.fr/wp-content/uploads/2023/04/Mammographie-cancer.jpg
ORGANIZER;CN="CEKCB":MAILTO:contact@cekcb.fr
END:VEVENT
BEGIN:VEVENT
DTSTART;VALUE=DATE:20260313
DTEND;VALUE=DATE:20260316
DTSTAMP:20260421T230923
CREATED:20250925T092458Z
LAST-MODIFIED:20260201T153209Z
UID:18843-1773360000-1773619199@cekcb.fr
SUMMARY:Thérapie Globale de la Scoliose en 3 dimensions : TGS 3D module 2
DESCRIPTION:
URL:https://cekcb.fr/event/therapie-globale-de-la-scoliose-en-3-dimensions-tgs-3d-module-2/
LOCATION:paris
END:VEVENT
BEGIN:VEVENT
DTSTART;VALUE=DATE:20260321
DTEND;VALUE=DATE:20260323
DTSTAMP:20260421T230923
CREATED:20230803T083036Z
LAST-MODIFIED:20251222T114935Z
UID:12817-1774051200-1774223999@cekcb.fr
SUMMARY:Portage et massage bébé
DESCRIPTION:Découvrez les merveilleux bienfaits du portage et du massage pour bébé lors de notre formation spécialement conçue pour les parents désireux de créer des liens privilégiés avec leur tout-petit. Avec Aliénor\, apprenez les techniques sécuritaires et réconfortantes du portage et du massage bébé.
URL:https://cekcb.fr/event/portage-et-massage-bebe/
LOCATION:pontivy
ATTACH;FMTTYPE=image/jpeg:https://cekcb.fr/wp-content/uploads/2020/11/portage_bb_web.jpg
ORGANIZER;CN="CEKCB":MAILTO:contact@cekcb.fr
END:VEVENT
BEGIN:VEVENT
DTSTART;VALUE=DATE:20260326
DTEND;VALUE=DATE:20260329
DTSTAMP:20260421T230923
CREATED:20220809T095014Z
LAST-MODIFIED:20250808T150316Z
UID:9484-1774483200-1774742399@cekcb.fr
SUMMARY:Dry needling – Puncture sèche - module 1
DESCRIPTION:Le Syndrome Myofascial Douloureux est une entité pathologique courante\, elle implique la présence de PTrM dans un ou plusieurs muscles et se manifeste par des douleurs locales exquises et des douleurs ou des sensations référées ressenties par le patient à distance de la contracture. Ces PTrM peuvent être traités manuellement et à l´aide d´une aiguille. Le Dry Needling est une technique de traitement complétant efficacement la thérapie manuelle des Points Trigger Myofasciaux. \nLe praticien dispose de deux options\, la puncture superficielle dans la zone dermique en regard du point trigger ou dans la zone de douleur référée et la puncture profonde où la pointe de l´aiguille doit pénétrer exactement le point trigger responsable de la symptomatologie actuelle du patient. Les aiguilles utilisées sont des aiguilles d´acupuncture jetables et le praticien s´applique à respecter les conditions d’hygiène adéquates et les autres règles de bonne pratique. \nL´objectif de ce traitement est comparable à celui du traitement manuel qu´il complète\, il est de restaurer la vascularisation locale pour drainer la soupe inflammatoire locale\, juguler l´acidose et ainsi rétablir un milieu chimique optimal. \nCette technique est un moyen performant qui associé à la prise en charge manuelle permet de traiter les syndromes myofasciaux douloureux\, les points fasciaux et les adhérences cicatricielles.
URL:https://cekcb.fr/event/dry-needling-puncture-seche-module-1/
LOCATION:pontivy
ATTACH;FMTTYPE=image/jpeg:https://cekcb.fr/wp-content/uploads/2022/08/PHOTO.jpg
ORGANIZER;CN="CEKCB":MAILTO:contact@cekcb.fr
END:VEVENT
BEGIN:VEVENT
DTSTART;VALUE=DATE:20260326
DTEND;VALUE=DATE:20260329
DTSTAMP:20260421T230923
CREATED:20230804T093331Z
LAST-MODIFIED:20250808T150424Z
UID:12868-1774483200-1774742399@cekcb.fr
SUMMARY:Dépistage\, Rééducation et Éducation thérapeutique du patient dans les Dysfonctions de l’Appareil Manducateur
DESCRIPTION:Les douleurs et les problèmes d’ATM concernent 50 à 70% de la population et le kinésithérapeute\, dans le champ de son domaine de compétence\, peut\, en collaboration avec les Chirurgiens-Dentistes et les Orthodontistes\, aider ces patients à retrouver des fonctions masticatrices normales. \nLa prise en charge du Dysfonctionnement de l’Appareil Manducateur (DAM)\, pluridisciplinaire\, vous demande\, Masseurs Kinésithérapeutes\, une connaissance spécifique de l’anatomie\, de la physiologie des ATM et des différentes fonctions oro-maxillo-faciales. \nCe stage de rééducation des DAM va vous permettre\, en complément de la Rééducation des praxies linguales quand elle s’avère nécessaire\, de soulager vos patients et de leur faire retrouver une fonction masticatoire fonctionnelle. \nCe stage vous apprendra à connaître et à maîtriser ces différentes phases.\nLa rééducation des dyspraxies linguales et la relaxation globale sont abordées mais font l’objet d’autres stages.
URL:https://cekcb.fr/event/depistage-reeducation-et-education-therapeutique-du-patient-dans-les-dysfonctions-de-lappareil-manducateur-2/
LOCATION:pontivy
ATTACH;FMTTYPE=image/jpeg:https://cekcb.fr/wp-content/uploads/2020/06/atm_web2.jpg
ORGANIZER;CN="CEKCB":MAILTO:contact@cekcb.fr
END:VEVENT
BEGIN:VEVENT
DTSTART;VALUE=DATE:20260327
DTEND;VALUE=DATE:20260329
DTSTAMP:20260421T230923
CREATED:20230515T132430Z
LAST-MODIFIED:20250808T150500Z
UID:12207-1774569600-1774742399@cekcb.fr
SUMMARY:Le complexe de l'épaule - niveau 1
DESCRIPTION:La problématique :\nLes pathologies neuro musculo squelettiques sont un problème de santé publique. Les maladies professionnelles et les accidents de travail du membre supérieur et particulièrement du complexe de l’épaule sont en recrudescence.\nLes douleurs de l’épaule représentent un motif de consultation fréquent\, en progression depuis une décennie. Elles touchent toutes les tranches d’âges\, les deux sexes\, les différentes ethnies et catégories sociales\, du sportif au sédentaire\, de la secrétaire au travailleur de force.\nUne personne sur deux aura une rupture de la coiffe des rotateurs après 70 ans et 50000 prothèses d’épaule sont placées chaque année dans le monde.\nLes recommandations HAS pour les prescripteurs et chirurgiens orientent en rééducation ambulatoire après chirurgie de la coiffe des rotateurs\, mais également préconisent des séances kinésithérapiques préopératoires pour améliorer l’épaule et parfois éviter l’intervention dans 70% des cas.\nLe traitement de première intention des épaules douloureuses est médical et Kinésithérapique.\nLa chirurgie est discutée en absence d’amélioration après 6 mois de traitement.
URL:https://cekcb.fr/event/le-complexe-de-lepaule-niveau-1/
LOCATION:pontivy
ATTACH;FMTTYPE=image/jpeg:https://cekcb.fr/wp-content/uploads/2024/03/complexe-epaule-cekcb-2.jpg
ORGANIZER;CN="CEKCB":MAILTO:contact@cekcb.fr
END:VEVENT
BEGIN:VEVENT
DTSTART;VALUE=DATE:20260327
DTEND;VALUE=DATE:20260329
DTSTAMP:20260421T230923
CREATED:20230804T091751Z
LAST-MODIFIED:20251222T115406Z
UID:12850-1774569600-1774742399@cekcb.fr
SUMMARY:Méthode Pilates – M2 - Rennes
DESCRIPTION:Découverte de la méthode Pilates pour Kinésithérapeutes en deux modules indissociables\nVous avez beaucoup entendu parlé de la méthode Pilates et vous êtes curieux ? \nVous souhaitez développer une pratique de cours de gym collectif au sein de votre cabinet afin de diversifier votre activité?\nPolestar Pilates et son équipe \, vous proposent une formation introductive spécialement conçue pour vous\, kinésithérapeutes. Polestar Pilates\, est l’une des écoles leader du marché International . Elle a été crée aux états Unis par le Dr Brent Anderson au début des années 1990.\nSa spécialité est d’enseigner la méthode Pilates avec une approche réhabilitative en expliquant l’efficacité de la méthode grâce à l’éclairage de la biomécanique\, la physiologie mais aussi la médecine énergétique.Son point de vue est global et hollistique. Cette méthode est intégrée depuis plusieurs années dans des structures thérapeutiques comme des hôpitaux et des centres de réhabilitation avec succès à travers le monde.
URL:https://cekcb.fr/event/methode-pilates-m2-rennes/
LOCATION:Rennes
ATTACH;FMTTYPE=image/jpeg:https://cekcb.fr/wp-content/uploads/2023/01/photo3.jpg
ORGANIZER;CN="CEKCB":MAILTO:contact@cekcb.fr
END:VEVENT
BEGIN:VEVENT
DTSTART;VALUE=DATE:20260327
DTEND;VALUE=DATE:20260329
DTSTAMP:20260421T230923
CREATED:20250808T150635Z
LAST-MODIFIED:20250808T150635Z
UID:18368-1774569600-1774742399@cekcb.fr
SUMMARY:Massage aux Pierres\, Chaudes-Froides-Semi Précieuses
DESCRIPTION:La formation est donnée sur deux jours et permet d’apprendre à utiliser le matériel\, les pierres\, intégrer les protocoles\, l’intégrer dans nos soins… et surtout découvrir le ressenti de ce soin surprenant et novateur.
URL:https://cekcb.fr/event/massage-aux-pierres-chaudes-froides-semi-precieuses/
LOCATION:pontivy
ORGANIZER;CN="CEKCB":MAILTO:contact@cekcb.fr
END:VEVENT
END:VCALENDAR