BEGIN:VCALENDAR
VERSION:2.0
PRODID:-//CEKCB - ECPv6.15.18//NONSGML v1.0//EN
CALSCALE:GREGORIAN
METHOD:PUBLISH
X-ORIGINAL-URL:https://cekcb.fr
X-WR-CALDESC:Évènements pour CEKCB
REFRESH-INTERVAL;VALUE=DURATION:PT1H
X-Robots-Tag:noindex
X-PUBLISHED-TTL:PT1H
BEGIN:VTIMEZONE
TZID:Europe/Paris
BEGIN:DAYLIGHT
TZOFFSETFROM:+0100
TZOFFSETTO:+0200
TZNAME:CEST
DTSTART:20250330T010000
END:DAYLIGHT
BEGIN:STANDARD
TZOFFSETFROM:+0200
TZOFFSETTO:+0100
TZNAME:CET
DTSTART:20251026T010000
END:STANDARD
BEGIN:DAYLIGHT
TZOFFSETFROM:+0100
TZOFFSETTO:+0200
TZNAME:CEST
DTSTART:20260329T010000
END:DAYLIGHT
BEGIN:STANDARD
TZOFFSETFROM:+0200
TZOFFSETTO:+0100
TZNAME:CET
DTSTART:20261025T010000
END:STANDARD
BEGIN:DAYLIGHT
TZOFFSETFROM:+0100
TZOFFSETTO:+0200
TZNAME:CEST
DTSTART:20270328T010000
END:DAYLIGHT
BEGIN:STANDARD
TZOFFSETFROM:+0200
TZOFFSETTO:+0100
TZNAME:CET
DTSTART:20271031T010000
END:STANDARD
END:VTIMEZONE
BEGIN:VEVENT
DTSTART;VALUE=DATE:20260604
DTEND;VALUE=DATE:20260606
DTSTAMP:20260422T010047
CREATED:20230803T084843Z
LAST-MODIFIED:20250808T151721Z
UID:12831-1780531200-1780703999@cekcb.fr
SUMMARY:VENTILATION\, Syndrome d’APNÉES OBSTRUCTIVES du SOMMEIL
DESCRIPTION:Montrer que le Masseur-Kinésithérapeute a un grand rôle à jouer dans les SAOS.\nDévelopper les moyens qu’il pourra mettre en œuvre\, parallèlement aux autres traitements tels que les appareils de respiration à pression continue positive et les orthèses d’avancée mandibulaire. \nLe syndrome d’apnée du sommeil toucherait entre 1 et 3 millions de personnes en France mais près de 80 % ne seraient pas diagnostiquées. Il existe pourtant des traitements efficaces pour lutter contre ces apnées et leurs multiples conséquences sur la santé. \nLe syndrome d apnées obstructives du sommeil est reconnu comme un problème de santé publique par ses conséquences sur l’ aggravation des problèmes cardio-vasculaires.
URL:https://cekcb.fr/event/ventilation-syndrome-dapnees-obstructives-du-sommeil-2/
LOCATION:Rennes
ORGANIZER;CN="CEKCB":MAILTO:contact@cekcb.fr
END:VEVENT
BEGIN:VEVENT
DTSTART;VALUE=DATE:20260604
DTEND;VALUE=DATE:20260607
DTSTAMP:20260422T010047
CREATED:20230803T084124Z
LAST-MODIFIED:20250808T151644Z
UID:12825-1780531200-1780790399@cekcb.fr
SUMMARY:Yoga postural et kinésithérapie – les fondamentaux
DESCRIPTION:Formation à l’utilisation adaptée du yoga par le kinésithérapeute. \nApplication au travail de groupe et à la séance de rééducation individuelle. \nOriginaire de l’Inde\, le « Yoga » est maintenant bien connu en occident où de nombreux pratiquants le considèrent\, à juste titre\, comme une pratique corporelle de santé simple et accessible à tous.\nLe yoga propose une utilisation très précise du travail postural\, en lien avec la respiration et la prise de conscience du corps.
URL:https://cekcb.fr/event/yoga-postural-et-kinesitherapie-module-1/
LOCATION:pontivy
ATTACH;FMTTYPE=image/jpeg:https://cekcb.fr/wp-content/uploads/2021/07/image_yoga_postural.jpg
ORGANIZER;CN="CEKCB":MAILTO:contact@cekcb.fr
END:VEVENT
BEGIN:VEVENT
DTSTART;VALUE=DATE:20260604
DTEND;VALUE=DATE:20260607
DTSTAMP:20260422T010047
CREATED:20260104T080028Z
LAST-MODIFIED:20260122T090836Z
UID:15317-1780531200-1780790399@cekcb.fr
SUMMARY:Technique JONES - membre supérieur
DESCRIPTION:Traitement des douleurs musculo-squelettiques et pertes d’amplitude par les points neuro-musculaires et le principe d’inhibition musculaire.\nModule 1 – Thorax – Cervicales et Membre supérieur \nLe Jones Institute étant la maison mère fondée par le Dr Lawrence Jones\, le module Jones Classique vous fera découvrir la Technique de Jones Strain Counterstrain telle qu’il l’a développée. Au cours de ces trois stages vous seront donc présentés les fondamentaux théoriques et toutes les techniques que le fondateur a pris le temps de mettre au point en vue d’arriver à l’abord du patient en trois temps : l’examen spécifique du sujet (scan)\, l’élaboration d’une séquence de traitement (sequencing) et le traitement proprement dit. \nPas à pas\, grâce à une palpation méthodique\, vous avancerez dans le monde du Counterstrain pour en découvrir les effets locaux et généraux en vue de l’équilibre des structures et la cohérence globale du patient.
URL:https://cekcb.fr/event/technique-jones-module-1/
LOCATION:pontivy
ORGANIZER;CN="CEKCB":MAILTO:contact@cekcb.fr
END:VEVENT
BEGIN:VEVENT
DTSTART;VALUE=DATE:20260606
DTEND;VALUE=DATE:20260607
DTSTAMP:20260422T010047
CREATED:20250808T151924Z
LAST-MODIFIED:20250808T151924Z
UID:18393-1780704000-1780790399@cekcb.fr
SUMMARY:Rééducation en carcinologie de la face et des voies aéro-digestives supérieures
DESCRIPTION:Les cancers des voies aéro-digestives supérieures\, classés au 5ième rang parmi les cancers les plus fréquents (tous genres confondus)\, constituent un problème de santé publique majeur (1).\nLes cancers de la peau\, dont la localisation est volontiers faciale\, ont plus que triplé entre 1990 et 2023 (2).\nCes cancers amènent les kinésithérapeutes spécialisés en rééducation maxillo-faciale à contribuer aux soins de support.\nEn pratique générale\, les kinésithérapeutes peuvent délivrer des messages de prévention. Ils sont en situation de repérer des signes d’alerte et peuvent ainsi prendre part au dépistage précoce.\nCette formation a pour objectif de fournir une information actualisée sur la place des kinésithérapeutes dans la prévention\, le dépistage et les soins de support en carcinologie de la face et des VADS.
URL:https://cekcb.fr/event/reeducation-en-carcinologie-de-la-face-et-des-voies-aero-digestives-superieures-2/
LOCATION:Rennes
ORGANIZER;CN="CEKCB":MAILTO:contact@cekcb.fr
END:VEVENT
BEGIN:VEVENT
DTSTART;TZID=Europe/Paris:20260611T080000
DTEND;TZID=Europe/Paris:20260612T170000
DTSTAMP:20260422T010047
CREATED:20250925T093213Z
LAST-MODIFIED:20250925T093213Z
UID:18849-1781164800-1781283600@cekcb.fr
SUMMARY:Actualisation des techniques de drainage et de Mobilisations tissulaires dans la prise en charge des œdèmes veino lymphatiques de l’adulte
DESCRIPTION:
URL:https://cekcb.fr/event/actualisation-des-techniques-de-drainage-et-de-mobilisations-tissulaires-dans-la-prise-en-charge-des-oedemes-veino-lymphatiques-de-ladulte/
LOCATION:pontivy
END:VEVENT
BEGIN:VEVENT
DTSTART;VALUE=DATE:20260612
DTEND;VALUE=DATE:20260614
DTSTAMP:20260422T010047
CREATED:20250808T144839Z
LAST-MODIFIED:20260108T092350Z
UID:18355-1781222400-1781395199@cekcb.fr
SUMMARY:Communication et raisonnement clinique en kinésithérapie
DESCRIPTION:La communication et le raisonnement clinique sont essentiels dans la pratique des kinésithérapeutes pour assurer une prise en charge efficace et sécurisée des patients.\nUne communication idoine aura une incidence sur la satisfaction du patient et une meilleure adhésion aux recommandations thérapeutiques. La relation thérapeutique s’en trouvera renforcée car en corrélation avec le niveau de confiance du patient avec son thérapeute.
URL:https://cekcb.fr/event/communication-et-raisonnement-clinique-en-kinesitherapie/
LOCATION:pontivy
ORGANIZER;CN="CEKCB":MAILTO:contact@cekcb.fr
END:VEVENT
BEGIN:VEVENT
DTSTART;VALUE=DATE:20260618
DTEND;VALUE=DATE:20260621
DTSTAMP:20260422T010047
CREATED:20230804T123038Z
LAST-MODIFIED:20250808T152024Z
UID:12919-1781740800-1781999999@cekcb.fr
SUMMARY:Kinésithérapie viscérale
DESCRIPTION:Pourquoi aborder le ventre en soins de kinésithérapie ?\nQuelles sont les causes métaboliques générant des troubles musculo-squelettiques ?\nQuelles pathologies rencontrées en kinésithérapie/ostéopathie répondent aux traitements viscéraux ?\nQuels types de patient répondent aux traitements viscéraux manuels ?\nRappels anatomiques et topographiques pratiques. Relations neurologiques organes – périphérie. Relation fascias organes – périphérie. Lecture corporelle des signes et souffrances organiques.\nCauses majeures de rhumatismes et douleurs tendineuses.\nExamen pratique de l’abdomen : recherche d’éléments probants sur les dysfonctions organiques.
URL:https://cekcb.fr/event/kinesitherapie-viscerale/
LOCATION:pontivy
ATTACH;FMTTYPE=image/jpeg:https://cekcb.fr/wp-content/uploads/2021/10/photo_formation_site_web.jpg
ORGANIZER;CN="CEKCB":MAILTO:contact@cekcb.fr
END:VEVENT
BEGIN:VEVENT
DTSTART;VALUE=DATE:20260618
DTEND;VALUE=DATE:20260621
DTSTAMP:20260422T010047
CREATED:20250808T152131Z
LAST-MODIFIED:20250808T152131Z
UID:18396-1781740800-1781999999@cekcb.fr
SUMMARY:Approche manuelle des endométrioses
DESCRIPTION:Ce programme de formation détaillé s’étend sur trois jours et est spé- cifiquement conçu pour les professionnels de la santé traitant l’endométriose. Il commence par une introduction approfondie à l’anatomo-physiologie du petit bassin féminin\, incluant une étude des os\, ligaments\, muscles et organes pelviens. Le programme couvre également les différentes théories et les dernières découvertes scientifiques sur l’endométriose.
URL:https://cekcb.fr/event/approche-manuelle-des-endometrioses/
LOCATION:pontivy
ORGANIZER;CN="CEKCB":MAILTO:contact@cekcb.fr
END:VEVENT
BEGIN:VEVENT
DTSTART;TZID=Europe/Paris:20260618T080000
DTEND;TZID=Europe/Paris:20260619T170000
DTSTAMP:20260422T010047
CREATED:20250925T093037Z
LAST-MODIFIED:20250925T093037Z
UID:18847-1781769600-1781888400@cekcb.fr
SUMMARY:Lymphoedeme du membre sup suite à un cancer du sein : drainage et bandage
DESCRIPTION:
URL:https://cekcb.fr/event/lymphoedeme-du-membre-sup-suite-a-un-cancer-du-sein-drainage-et-bandage/
LOCATION:pontivy
END:VEVENT
END:VCALENDAR