BEGIN:VCALENDAR
VERSION:2.0
PRODID:-//CEKCB - ECPv6.15.18//NONSGML v1.0//EN
CALSCALE:GREGORIAN
METHOD:PUBLISH
X-ORIGINAL-URL:https://cekcb.fr
X-WR-CALDESC:Évènements pour CEKCB
REFRESH-INTERVAL;VALUE=DURATION:PT1H
X-Robots-Tag:noindex
X-PUBLISHED-TTL:PT1H
BEGIN:VTIMEZONE
TZID:Europe/Paris
BEGIN:DAYLIGHT
TZOFFSETFROM:+0100
TZOFFSETTO:+0200
TZNAME:CEST
DTSTART:20250330T010000
END:DAYLIGHT
BEGIN:STANDARD
TZOFFSETFROM:+0200
TZOFFSETTO:+0100
TZNAME:CET
DTSTART:20251026T010000
END:STANDARD
BEGIN:DAYLIGHT
TZOFFSETFROM:+0100
TZOFFSETTO:+0200
TZNAME:CEST
DTSTART:20260329T010000
END:DAYLIGHT
BEGIN:STANDARD
TZOFFSETFROM:+0200
TZOFFSETTO:+0100
TZNAME:CET
DTSTART:20261025T010000
END:STANDARD
BEGIN:DAYLIGHT
TZOFFSETFROM:+0100
TZOFFSETTO:+0200
TZNAME:CEST
DTSTART:20270328T010000
END:DAYLIGHT
BEGIN:STANDARD
TZOFFSETFROM:+0200
TZOFFSETTO:+0100
TZNAME:CET
DTSTART:20271031T010000
END:STANDARD
END:VTIMEZONE
BEGIN:VEVENT
DTSTART;VALUE=DATE:20260904
DTEND;VALUE=DATE:20260907
DTSTAMP:20260422T044839
CREATED:20260322T184121Z
LAST-MODIFIED:20260322T184927Z
UID:19959-1788480000-1788739199@cekcb.fr
SUMMARY:DRY NEEDLING niveau 2
DESCRIPTION:
URL:https://cekcb.fr/event/dry-needling-niveau-2/
LOCATION:¨perpignan\, hotel\, PERPIGNAN
END:VEVENT
BEGIN:VEVENT
DTSTART;TZID=Europe/Paris:20260911T080000
DTEND;TZID=Europe/Paris:20260913T170000
DTSTAMP:20260422T044839
CREATED:20260322T184848Z
LAST-MODIFIED:20260322T185005Z
UID:19967-1789113600-1789318800@cekcb.fr
SUMMARY:Fascias et thérapie manuelle — de la science à la pratique
DESCRIPTION:
URL:https://cekcb.fr/event/fascias-et-therapie-manuelle-de-la-science-a-la-pratique/
LOCATION:¨perpignan\, hotel\, PERPIGNAN
END:VEVENT
BEGIN:VEVENT
DTSTART;VALUE=DATE:20260915
DTEND;VALUE=DATE:20260917
DTSTAMP:20260422T044839
CREATED:20260317T174629Z
LAST-MODIFIED:20260317T174835Z
UID:19905-1789430400-1789603199@cekcb.fr
SUMMARY:Qchi-M/M-test niveau 2
DESCRIPTION:
URL:https://cekcb.fr/event/k-taping-pour-la-sante-de-la-femme-et-cancer-du-sein-2/
LOCATION:pontivy
END:VEVENT
BEGIN:VEVENT
DTSTART;VALUE=DATE:20260917
DTEND;VALUE=DATE:20260919
DTSTAMP:20260422T044839
CREATED:20260317T180256Z
LAST-MODIFIED:20260317T180256Z
UID:19909-1789603200-1789775999@cekcb.fr
SUMMARY:Traitement des cicatrices
DESCRIPTION:
URL:https://cekcb.fr/event/traitement-des-cicatrices-2/
LOCATION:pontivy
END:VEVENT
BEGIN:VEVENT
DTSTART;TZID=Europe/Paris:20260917T080000
DTEND;TZID=Europe/Paris:20260920T170000
DTSTAMP:20260422T044839
CREATED:20260322T181321Z
LAST-MODIFIED:20260322T181321Z
UID:19942-1789632000-1789923600@cekcb.fr
SUMMARY:METHODE MC KENZIE MODULE C
DESCRIPTION:
URL:https://cekcb.fr/event/methode-mc-kenzie-module-c/
LOCATION:pontivy
END:VEVENT
BEGIN:VEVENT
DTSTART;VALUE=DATE:20260918
DTEND;VALUE=DATE:20260921
DTSTAMP:20260422T044839
CREATED:20260322T182004Z
LAST-MODIFIED:20260322T182843Z
UID:19950-1789689600-1789948799@cekcb.fr
SUMMARY:therapie-globale-de-la-scoliose-en-3-dimensions-tgs module 1
DESCRIPTION:
URL:https://cekcb.fr/event/reeducation-maxillo-faciale-reeducation-des-dyspraxies-linguales/
LOCATION:paris
END:VEVENT
BEGIN:VEVENT
DTSTART;TZID=Europe/Paris:20260919T080000
DTEND;TZID=Europe/Paris:20260920T170000
DTSTAMP:20260422T044839
CREATED:20260322T181202Z
LAST-MODIFIED:20260322T181202Z
UID:19940-1789804800-1789923600@cekcb.fr
SUMMARY:QCHI M   NIVEAU 1
DESCRIPTION:
URL:https://cekcb.fr/event/qchi-m-niveau-1/
LOCATION:pontivy
END:VEVENT
BEGIN:VEVENT
DTSTART;VALUE=DATE:20260921
DTEND;VALUE=DATE:20260922
DTSTAMP:20260422T044839
CREATED:20260322T181424Z
LAST-MODIFIED:20260322T182658Z
UID:19944-1789948800-1790035199@cekcb.fr
SUMMARY:REVISION MC KENZIE
DESCRIPTION:
URL:https://cekcb.fr/event/revision-mc-kenzie/
LOCATION:pontivy
END:VEVENT
BEGIN:VEVENT
DTSTART;VALUE=DATE:20260924
DTEND;VALUE=DATE:20260926
DTSTAMP:20260422T044839
CREATED:20260322T181556Z
LAST-MODIFIED:20260322T181556Z
UID:19946-1790208000-1790380799@cekcb.fr
SUMMARY:YOGA AU FEMININ
DESCRIPTION:
URL:https://cekcb.fr/event/yoga-au-feminin-2/
LOCATION:pontivy
END:VEVENT
BEGIN:VEVENT
DTSTART;VALUE=DATE:20260925
DTEND;VALUE=DATE:20260927
DTSTAMP:20260422T044839
CREATED:20260322T181812Z
LAST-MODIFIED:20260322T181812Z
UID:19948-1790294400-1790467199@cekcb.fr
SUMMARY:LE COMPLEXE DE L'EPAULE
DESCRIPTION:
URL:https://cekcb.fr/event/le-complexe-de-lepaule/
LOCATION:Rennes
END:VEVENT
BEGIN:VEVENT
DTSTART;VALUE=DATE:20260925
DTEND;VALUE=DATE:20260927
DTSTAMP:20260422T044839
CREATED:20260323T154906Z
LAST-MODIFIED:20260323T154906Z
UID:19995-1790294400-1790467199@cekcb.fr
SUMMARY:PILATES M1
DESCRIPTION:
URL:https://cekcb.fr/event/pilates-m1/
LOCATION:pontivy
END:VEVENT
BEGIN:VEVENT
DTSTART;VALUE=DATE:20260930
DTEND;VALUE=DATE:20261003
DTSTAMP:20260422T044839
CREATED:20260322T183427Z
LAST-MODIFIED:20260322T183526Z
UID:19957-1790726400-1790985599@cekcb.fr
SUMMARY:Dépistage\, Éducation Thérapeutique dans l’Apprentissage des bonnes praxies linguales
DESCRIPTION:
URL:https://cekcb.fr/event/depistage-education-therapeutique-dans-lapprentissage-des-bonnes-praxies-linguales/
LOCATION:Rennes
END:VEVENT
END:VCALENDAR