BEGIN:VCALENDAR
VERSION:2.0
PRODID:-//CEKCB - ECPv6.15.18//NONSGML v1.0//EN
CALSCALE:GREGORIAN
METHOD:PUBLISH
X-WR-CALNAME:CEKCB
X-ORIGINAL-URL:https://cekcb.fr
X-WR-CALDESC:Évènements pour CEKCB
REFRESH-INTERVAL;VALUE=DURATION:PT1H
X-Robots-Tag:noindex
X-PUBLISHED-TTL:PT1H
BEGIN:VTIMEZONE
TZID:Europe/Paris
BEGIN:DAYLIGHT
TZOFFSETFROM:+0100
TZOFFSETTO:+0200
TZNAME:CEST
DTSTART:20250330T010000
END:DAYLIGHT
BEGIN:STANDARD
TZOFFSETFROM:+0200
TZOFFSETTO:+0100
TZNAME:CET
DTSTART:20251026T010000
END:STANDARD
BEGIN:DAYLIGHT
TZOFFSETFROM:+0100
TZOFFSETTO:+0200
TZNAME:CEST
DTSTART:20260329T010000
END:DAYLIGHT
BEGIN:STANDARD
TZOFFSETFROM:+0200
TZOFFSETTO:+0100
TZNAME:CET
DTSTART:20261025T010000
END:STANDARD
BEGIN:DAYLIGHT
TZOFFSETFROM:+0100
TZOFFSETTO:+0200
TZNAME:CEST
DTSTART:20270328T010000
END:DAYLIGHT
BEGIN:STANDARD
TZOFFSETFROM:+0200
TZOFFSETTO:+0100
TZNAME:CET
DTSTART:20271031T010000
END:STANDARD
END:VTIMEZONE
BEGIN:VEVENT
DTSTART;VALUE=DATE:20261105
DTEND;VALUE=DATE:20261108
DTSTAMP:20260422T101116
CREATED:20260323T151842Z
LAST-MODIFIED:20260323T151842Z
UID:19970-1793836800-1794095999@cekcb.fr
SUMMARY:Reflexologie plantaire
DESCRIPTION:
URL:https://cekcb.fr/event/reflexologie-plantaire/
LOCATION:pontivy
END:VEVENT
BEGIN:VEVENT
DTSTART;VALUE=DATE:20261105
DTEND;VALUE=DATE:20261108
DTSTAMP:20260422T101116
CREATED:20260323T152157Z
LAST-MODIFIED:20260323T152157Z
UID:19974-1793836800-1794095999@cekcb.fr
SUMMARY:Relaxation  : le Training autogène de Shultz
DESCRIPTION:
URL:https://cekcb.fr/event/relaxation-le-training-autogene-de-shultz-3/
LOCATION:pontivy
END:VEVENT
BEGIN:VEVENT
DTSTART;VALUE=DATE:20261106
DTEND;VALUE=DATE:20261108
DTSTAMP:20260422T101116
CREATED:20260323T152037Z
LAST-MODIFIED:20260323T152037Z
UID:19972-1793923200-1794095999@cekcb.fr
SUMMARY:Autonomisation du patient en rééducation des troubles neuro-musculo-squelettiques concernant la prise en charge des épicondylalgies et des pathologies neuropathiques associées de l’adulte.
DESCRIPTION:
URL:https://cekcb.fr/event/autonomisation-du-patient-en-reeducation-des-troubles-neuro-musculo-squelettiques-concernant-la-prise-en-charge-des-epicondylalgies-et-des-pathologies-neuropathiques-associees-de-ladulte/
LOCATION:pontivy
END:VEVENT
BEGIN:VEVENT
DTSTART;VALUE=DATE:20261106
DTEND;VALUE=DATE:20261108
DTSTAMP:20260422T101116
CREATED:20260323T155059Z
LAST-MODIFIED:20260323T155059Z
UID:20000-1793923200-1794095999@cekcb.fr
SUMMARY:PILATES M2
DESCRIPTION:
URL:https://cekcb.fr/event/pilates-m2/
LOCATION:pontivy
END:VEVENT
BEGIN:VEVENT
DTSTART;VALUE=DATE:20261119
DTEND;VALUE=DATE:20261122
DTSTAMP:20260422T101116
CREATED:20250808T152238Z
LAST-MODIFIED:20260122T090711Z
UID:18376-1795046400-1795305599@cekcb.fr
SUMMARY:Thérapie manuelle technique JONES - membre inferieur
DESCRIPTION:Jones classic quadrant inférieur \n 
URL:https://cekcb.fr/event/therapie-manuelle-technique-jones-membre-inferieur/
LOCATION:pontivy
ORGANIZER;CN="CEKCB":MAILTO:contact@cekcb.fr
END:VEVENT
BEGIN:VEVENT
DTSTART;VALUE=DATE:20261119
DTEND;VALUE=DATE:20261122
DTSTAMP:20260422T101116
CREATED:20260323T152541Z
LAST-MODIFIED:20260323T152541Z
UID:19976-1795046400-1795305599@cekcb.fr
SUMMARY:Dépistage\, Rééducation et Éducation thérapeutique du patient dans les Dysfonctions de l’Appareil Manducateur
DESCRIPTION:
URL:https://cekcb.fr/event/depistage-reeducation-et-education-therapeutique-du-patient-dans-les-dysfonctions-de-lappareil-manducateur-3/
LOCATION:Rennes
END:VEVENT
BEGIN:VEVENT
DTSTART;VALUE=DATE:20261120
DTEND;VALUE=DATE:20261122
DTSTAMP:20260422T101116
CREATED:20230802T084021Z
LAST-MODIFIED:20260420T122937Z
UID:12806-1795132800-1795305599@cekcb.fr
SUMMARY:Rééducation maxillo-faciale « Paralysies faciales »
DESCRIPTION:La paralysie faciale est une pathologie fréquente (avec 15.000 cas recensés chaque année en France pour les paralysies idoipathiques et 20 cas /100\,000 habitant/ans).\nElle est une complications fréquente de la chirurgie des cancers de la région cervico faciale ou des accidents vasculaires cérébraux ( AVC).\nElle entraîne un trouble des mimiques\, de l’articulation\, de la déglutition et un défaut de fermeture de l’œil. Elle génère un handicap majeur pour les patients\, tant sur le plan fonctionnel qu’au niveau de l’image corporelle et de la communication verbale et non verbale.\nCette formation a pour objectif de permettre aux participants de faire un état des lieux de leurs connaissances sur la paralysie faciale et sa prise en charge afin d’améliorer leur pratique professionnelle dans le domaine.
URL:https://cekcb.fr/event/reeducation-maxillo-faciale-paralysies-faciales/
LOCATION:pontivy
ORGANIZER;CN="CEKCB":MAILTO:contact@cekcb.fr
END:VEVENT
BEGIN:VEVENT
DTSTART;VALUE=DATE:20261120
DTEND;VALUE=DATE:20261122
DTSTAMP:20260422T101116
CREATED:20260323T152745Z
LAST-MODIFIED:20260323T152745Z
UID:19978-1795132800-1795305599@cekcb.fr
SUMMARY:MEHODE MC KENZIE  E
DESCRIPTION:
URL:https://cekcb.fr/event/mehode-mc-kenzie-e/
LOCATION:pontivy
END:VEVENT
BEGIN:VEVENT
DTSTART;VALUE=DATE:20261120
DTEND;VALUE=DATE:20261123
DTSTAMP:20260422T101116
CREATED:20260323T152925Z
LAST-MODIFIED:20260323T152925Z
UID:19980-1795132800-1795391999@cekcb.fr
SUMMARY:Thérapie Globale de la Scoliose en 3 dimensions : TGS 3D MODULE 3
DESCRIPTION:
URL:https://cekcb.fr/event/therapie-globale-de-la-scoliose-en-3-dimensions-tgs-3d-module-3/
LOCATION:paris
END:VEVENT
BEGIN:VEVENT
DTSTART;VALUE=DATE:20261122
DTEND;VALUE=DATE:20261124
DTSTAMP:20260422T101116
CREATED:20230804T095906Z
LAST-MODIFIED:20251014T090603Z
UID:12885-1795305600-1795478399@cekcb.fr
SUMMARY:Dry Needling Abdomino-Lombo-Pelvien - module 2
DESCRIPTION:Formation proposant la prise en charge manuelle et en Dry Needling des syndromes myofasciaux douloureux\, dans le cadre des syndromes abdomino-lombo-pelviens. Cet enseignement est basé sur les recherches scientifiques récentes en thérapie myofasciale dans le domaine des syndromes abdomino-lombo-pelviens. Elle peut compléter une formation académique en pelvi-périnéologie ainsi que la formation que nous proposons sur la prise en charge des structures ostéo-articulaires\, neurales et myofasciales impliquées dans les syndromes abdomino-lombo-pelviens.
URL:https://cekcb.fr/event/dry-needling-abdomino-lombo-pelvien-module-2/
LOCATION:pontivy
ATTACH;FMTTYPE=image/jpeg:https://cekcb.fr/wp-content/uploads/2023/07/Cekcb3.jpg
ORGANIZER;CN="CEKCB":MAILTO:contact@cekcb.fr
END:VEVENT
BEGIN:VEVENT
DTSTART;VALUE=DATE:20261126
DTEND;VALUE=DATE:20261129
DTSTAMP:20260422T101116
CREATED:20220809T083545Z
LAST-MODIFIED:20251014T090354Z
UID:9408-1795651200-1795910399@cekcb.fr
SUMMARY:Thérapie manuelle NeuroDynamique - module 2
DESCRIPTION:Thérapie Manuelle des Neuropathies Périphériques\nLa mobilité ainsi que la viscoélasticité des structures neurales ne font plus\, depuis quelques années\, l´objet de doute chez les thérapeutes. Dans les cas de neuropathies et de syndromes canalaires\, des troubles fonctionnels musculo-squelettiques entravent cette biomécanique. \nCela induit un manque de vascularisation et une augmentation de mécanosensibilité\, qui conduisent à une pathologie neurogène. La thérapie manuelle neurodynamique est centrée sur la normalisation de la vascularisation\, de la mécanosensibilité et de la biomécanique des structures neurales. Cette formation\, essentiellement pratique\, vous donne les outils pour mettre en évidence cette pathoneurodynamique\, ainsi que pour réaliser un bilan différentiel et vous permet d´intégrer les multiples techniques de traitement.
URL:https://cekcb.fr/event/therapie-manuelle-neurodynamique-module-2/
LOCATION:pontivy
ATTACH;FMTTYPE=image/jpeg:https://cekcb.fr/wp-content/uploads/2022/04/bandeau_neuro.jpg
ORGANIZER;CN="CEKCB":MAILTO:contact@cekcb.fr
END:VEVENT
BEGIN:VEVENT
DTSTART;VALUE=DATE:20261126
DTEND;VALUE=DATE:20261129
DTSTAMP:20260422T101116
CREATED:20220809T094412Z
LAST-MODIFIED:20251014T090749Z
UID:9477-1795651200-1795910399@cekcb.fr
SUMMARY:Fascias et thérapie manuelle — de la science à la pratique :  module 2
DESCRIPTION:Les fascias font actuellement l´objet de recherches actives en médecine sous l´impulsion de Robert Schleip\, Hélène Langevin\, Siegfried Mense et d´autres chercheurs comme Jean-Claude Guimberteau et Peter Huijing. Présent à tous les niveaux du corps humain\, le fascia\, continuum anatomophysiologique longtemps négligé\, siège de l´extéro et de la proprioception constitue notre sixième sens. Les structures fasciales sont les vecteurs de tensions musculaires\, elles représentent la première et la plus vaste interface mécanique du système nerveux\, elles possèdent une contractibilité autonome. On sait aujourd´hui le rôle primordial que joue le fascia thoracolombal chez les lombalgiques chroniques\, les fascias constitueraient également\, selon de récentes études la base anatomique des méridiens et des points d´acupuncture\,…\nPour toutes ces raisons\, la normalisation des fascias est devenue incontournable en thérapie manuelle. Différents concepts nous proposent leurs approches diagnostique et thérapeutique des fascias\, nous vous exposerons ceux qui ont retenu notre attention\, en les intégrant à une analyse neuro-orthopédique de cas cliniques.
URL:https://cekcb.fr/event/therapie-manuelle-des-tissus-conjonctifs-module-2-2/
LOCATION:pontivy
ATTACH;FMTTYPE=image/jpeg:https://cekcb.fr/wp-content/uploads/2021/04/therapie_manuelle_facias_fo.jpg
ORGANIZER;CN="CEKCB":MAILTO:contact@cekcb.fr
END:VEVENT
BEGIN:VEVENT
DTSTART;VALUE=DATE:20261128
DTEND;VALUE=DATE:20261129
DTSTAMP:20260422T101116
CREATED:20260323T153247Z
LAST-MODIFIED:20260323T153247Z
UID:19984-1795824000-1795910399@cekcb.fr
SUMMARY:Rééducation en carcinologie de la face et des voies aéro-digestives supérieures
DESCRIPTION:
URL:https://cekcb.fr/event/reeducation-en-carcinologie-de-la-face-et-des-voies-aero-digestives-superieures-3/
LOCATION:pontivy
END:VEVENT
END:VCALENDAR