BEGIN:VCALENDAR
VERSION:2.0
PRODID:-//CEKCB - ECPv6.15.18//NONSGML v1.0//EN
CALSCALE:GREGORIAN
METHOD:PUBLISH
X-WR-CALNAME:CEKCB
X-ORIGINAL-URL:https://cekcb.fr
X-WR-CALDESC:Évènements pour CEKCB
REFRESH-INTERVAL;VALUE=DURATION:PT1H
X-Robots-Tag:noindex
X-PUBLISHED-TTL:PT1H
BEGIN:VTIMEZONE
TZID:Europe/Paris
BEGIN:DAYLIGHT
TZOFFSETFROM:+0100
TZOFFSETTO:+0200
TZNAME:CEST
DTSTART:20250330T010000
END:DAYLIGHT
BEGIN:STANDARD
TZOFFSETFROM:+0200
TZOFFSETTO:+0100
TZNAME:CET
DTSTART:20251026T010000
END:STANDARD
BEGIN:DAYLIGHT
TZOFFSETFROM:+0100
TZOFFSETTO:+0200
TZNAME:CEST
DTSTART:20260329T010000
END:DAYLIGHT
BEGIN:STANDARD
TZOFFSETFROM:+0200
TZOFFSETTO:+0100
TZNAME:CET
DTSTART:20261025T010000
END:STANDARD
BEGIN:DAYLIGHT
TZOFFSETFROM:+0100
TZOFFSETTO:+0200
TZNAME:CEST
DTSTART:20270328T010000
END:DAYLIGHT
BEGIN:STANDARD
TZOFFSETFROM:+0200
TZOFFSETTO:+0100
TZNAME:CET
DTSTART:20271031T010000
END:STANDARD
END:VTIMEZONE
BEGIN:VEVENT
DTSTART;VALUE=DATE:20261202
DTEND;VALUE=DATE:20261206
DTSTAMP:20260422T102400
CREATED:20260323T153649Z
LAST-MODIFIED:20260323T153649Z
UID:19986-1796169600-1796515199@cekcb.fr
SUMMARY:METHODE MC KENZIE A
DESCRIPTION:
URL:https://cekcb.fr/event/methode-mc-kenzie-a/
LOCATION:pontivy
END:VEVENT
BEGIN:VEVENT
DTSTART;VALUE=DATE:20261203
DTEND;VALUE=DATE:20261206
DTSTAMP:20260422T102400
CREATED:20230428T091817Z
LAST-MODIFIED:20260206T093634Z
UID:12043-1796256000-1796515199@cekcb.fr
SUMMARY:Bases & sénior De Gasquet
DESCRIPTION:Le vieillissement accentue les problématiques rachidiennes et articulaires. La vie quotidienne mais aussi les traumatismes sportifs ou accidentels\, les maternités\, les maladies mettent le corps à l’épreuve. Tenir  compte des spécificités\, des impotences est essentiel pour garder la mobilité \n  \n 
URL:https://cekcb.fr/event/yoga-senior-de-gasquet/
LOCATION:pontivy
ATTACH;FMTTYPE=image/jpeg:https://cekcb.fr/wp-content/uploads/2023/04/yoga-seniors-cekcb-pontivy.jpg
ORGANIZER;CN="CEKCB":MAILTO:contact@cekcb.fr
END:VEVENT
BEGIN:VEVENT
DTSTART;VALUE=DATE:20261203
DTEND;VALUE=DATE:20261206
DTSTAMP:20260422T102400
CREATED:20260323T153802Z
LAST-MODIFIED:20260323T153802Z
UID:19988-1796256000-1796515199@cekcb.fr
SUMMARY:Cancer du sein et approche posturo respiratoire en kinésithérapie – De Gasquet
DESCRIPTION:
URL:https://cekcb.fr/event/cancer-du-sein-et-approche-posturo-respiratoire-en-kinesitherapie-de-gasquet/
LOCATION:pontivy
END:VEVENT
BEGIN:VEVENT
DTSTART;VALUE=DATE:20261204
DTEND;VALUE=DATE:20261206
DTSTAMP:20260422T102400
CREATED:20250808T141844Z
LAST-MODIFIED:20260113T132700Z
UID:18347-1796342400-1796515199@cekcb.fr
SUMMARY:Réadaptation respiratoire des patients BPCO
DESCRIPTION:La formation en réadaptation respiratoire des patients atteints de BPCO (bronchopneumopathie chronique obstructive) est une formation destinée aux kinésithérapeutes souhaitant approfondir leurs connaissances et compétences dans la prise en charge des patients souffrant de maladies respiratoires chroniques.
URL:https://cekcb.fr/event/readaptation-respiratoire-des-patients-bpco/
LOCATION:pontivy
ORGANIZER;CN="CEKCB":MAILTO:contact@cekcb.fr
END:VEVENT
BEGIN:VEVENT
DTSTART;VALUE=DATE:20261204
DTEND;VALUE=DATE:20261206
DTSTAMP:20260422T102400
CREATED:20260323T153935Z
LAST-MODIFIED:20260323T153935Z
UID:19990-1796342400-1796515199@cekcb.fr
SUMMARY:Douleurs et troubles musculo-squelettiques : poignet et main
DESCRIPTION:
URL:https://cekcb.fr/event/douleurs-et-troubles-musculo-squelettiques-poignet-et-main/
LOCATION:pontivy
END:VEVENT
BEGIN:VEVENT
DTSTART;VALUE=DATE:20261206
DTEND;VALUE=DATE:20261207
DTSTAMP:20260422T102400
CREATED:20230428T094735Z
LAST-MODIFIED:20260323T154402Z
UID:12070-1796515200-1796601599@cekcb.fr
SUMMARY:Examen MDT
DESCRIPTION:L’Institut McKenzie International a développé un examen de compétence il y a quelques années. En France\, il est proposé depuis 2010. L’examen de compétence McKenzie est axé sur la clinique. Il est composé d’une partie écrite et d’une partie pratique.
URL:https://cekcb.fr/event/examen-mdt/
LOCATION:pontivy
ORGANIZER;CN="CEKCB":MAILTO:contact@cekcb.fr
END:VEVENT
BEGIN:VEVENT
DTSTART;VALUE=DATE:20261211
DTEND;VALUE=DATE:20261213
DTSTAMP:20260422T102400
CREATED:20260323T154214Z
LAST-MODIFIED:20260323T154214Z
UID:19992-1796947200-1797119999@cekcb.fr
SUMMARY:LE COMPLEXE DE L'EPAULE NIVEAU 2
DESCRIPTION:
URL:https://cekcb.fr/event/le-complexe-de-lepaule-niveau-2-2/
LOCATION:pontivy
END:VEVENT
END:VCALENDAR